BEGIN:VCALENDAR
VERSION:2.0
PRODID:-//La Fleur-de-Lys - Restaurant et Pizzeria à Neuchâtel - ECPv6.15.20//NONSGML v1.0//EN
CALSCALE:GREGORIAN
METHOD:PUBLISH
X-WR-CALNAME:La Fleur-de-Lys - Restaurant et Pizzeria à Neuchâtel
X-ORIGINAL-URL:https://pizzeria-neuchatel.ch
X-WR-CALDESC:Évènements pour La Fleur-de-Lys - Restaurant et Pizzeria à Neuchâtel
REFRESH-INTERVAL;VALUE=DURATION:PT1H
X-Robots-Tag:noindex
X-PUBLISHED-TTL:PT1H
BEGIN:VTIMEZONE
TZID:Europe/Zurich
BEGIN:DAYLIGHT
TZOFFSETFROM:+0100
TZOFFSETTO:+0200
TZNAME:CEST
DTSTART:20250330T010000
END:DAYLIGHT
BEGIN:STANDARD
TZOFFSETFROM:+0200
TZOFFSETTO:+0100
TZNAME:CET
DTSTART:20251026T010000
END:STANDARD
BEGIN:DAYLIGHT
TZOFFSETFROM:+0100
TZOFFSETTO:+0200
TZNAME:CEST
DTSTART:20260329T010000
END:DAYLIGHT
BEGIN:STANDARD
TZOFFSETFROM:+0200
TZOFFSETTO:+0100
TZNAME:CET
DTSTART:20261025T010000
END:STANDARD
BEGIN:DAYLIGHT
TZOFFSETFROM:+0100
TZOFFSETTO:+0200
TZNAME:CEST
DTSTART:20270328T010000
END:DAYLIGHT
BEGIN:STANDARD
TZOFFSETFROM:+0200
TZOFFSETTO:+0100
TZNAME:CET
DTSTART:20271031T010000
END:STANDARD
END:VTIMEZONE
BEGIN:VEVENT
DTSTART;TZID=Europe/Zurich:20260420T080000
DTEND;TZID=Europe/Zurich:20260424T143000
DTSTAMP:20260423T121506
CREATED:20260417T123904Z
LAST-MODIFIED:20260417T123904Z
UID:4513-1776672000-1777041000@pizzeria-neuchatel.ch
SUMMARY:Menus de la semaine 17
DESCRIPTION:LUNDI 20.04 \nNo 1 Salade verte ou 2 boules de glace \nAgnolotti farcis à l’ail des ours (crème) \nNo 2 Salade verte ou 2 boules de glace \nCordon bleu de porc (CH)\, spaghetti al pomodoro \n  \nMARDI 21.04 \nNo 1 Salade verte ou 2 boules de glace \nGnocchi d’estate\n(tomates fraîches\, basilic\, ail\, copeaux de parmesan) \nNo 2 Salade verte ou 2 boules de glace \nScaloppine de poulet (PL) sauce aux champignons\,\nriz aux petits pois \n  \nMERCREDI 22.04 \nNo 1 Salade verte ou 2 boules de glace \nPenne aux 4 fromages (taleggio\, gruyère\, emmental\, parmesan) \nNo 2 Salade verte ou 2 boules de glace \nRôti de veau (CH) aux herbes\, pommes de terre au four\,\ncarottes glacées \n  \nJEUDI 23.04 \nNo 1 Salade verte ou 2 boules de glace \nRigatoni all’amatriciana (s. tomate\, ail\, piment\, oignon\, pancetta) \nNo 2 Salade verte ou 2 boules de glace \nEmincé de poulet (PL) au curry\, tagliatelle au beurre \nVENDREDI 24.04 \nNo 1 Salade verte ou 2 boules de glace \nGnocchetti corallo verde (crème\, épinards\, crevettes) \nNo 2 Salade verte ou 2 boules de glace \nFilet de saumon (NOR) sauce hollandaise\, pommes frites
URL:https://pizzeria-neuchatel.ch/event/menus-de-la-semaine-17-2/
CATEGORIES:Menu
END:VEVENT
END:VCALENDAR