BEGIN:VCALENDAR
VERSION:2.0
PRODID:-//La Fleur-de-Lys - Restaurant et Pizzeria à Neuchâtel - ECPv6.15.20//NONSGML v1.0//EN
CALSCALE:GREGORIAN
METHOD:PUBLISH
X-WR-CALNAME:La Fleur-de-Lys - Restaurant et Pizzeria à Neuchâtel
X-ORIGINAL-URL:https://pizzeria-neuchatel.ch
X-WR-CALDESC:Évènements pour La Fleur-de-Lys - Restaurant et Pizzeria à Neuchâtel
REFRESH-INTERVAL;VALUE=DURATION:PT1H
X-Robots-Tag:noindex
X-PUBLISHED-TTL:PT1H
BEGIN:VTIMEZONE
TZID:Europe/Zurich
BEGIN:DAYLIGHT
TZOFFSETFROM:+0100
TZOFFSETTO:+0200
TZNAME:CEST
DTSTART:20230326T010000
END:DAYLIGHT
BEGIN:STANDARD
TZOFFSETFROM:+0200
TZOFFSETTO:+0100
TZNAME:CET
DTSTART:20231029T010000
END:STANDARD
BEGIN:DAYLIGHT
TZOFFSETFROM:+0100
TZOFFSETTO:+0200
TZNAME:CEST
DTSTART:20240331T010000
END:DAYLIGHT
BEGIN:STANDARD
TZOFFSETFROM:+0200
TZOFFSETTO:+0100
TZNAME:CET
DTSTART:20241027T010000
END:STANDARD
BEGIN:DAYLIGHT
TZOFFSETFROM:+0100
TZOFFSETTO:+0200
TZNAME:CEST
DTSTART:20250330T010000
END:DAYLIGHT
BEGIN:STANDARD
TZOFFSETFROM:+0200
TZOFFSETTO:+0100
TZNAME:CET
DTSTART:20251026T010000
END:STANDARD
BEGIN:DAYLIGHT
TZOFFSETFROM:+0100
TZOFFSETTO:+0200
TZNAME:CEST
DTSTART:20260329T010000
END:DAYLIGHT
BEGIN:STANDARD
TZOFFSETFROM:+0200
TZOFFSETTO:+0100
TZNAME:CET
DTSTART:20261025T010000
END:STANDARD
END:VTIMEZONE
BEGIN:VEVENT
DTSTART;TZID=Europe/Zurich:20241202T080000
DTEND;TZID=Europe/Zurich:20241206T143000
DTSTAMP:20260424T081429
CREATED:20241129T134545Z
LAST-MODIFIED:20241129T134545Z
UID:2397-1733126400-1733495400@pizzeria-neuchatel.ch
SUMMARY:Menus de la semaine 49
DESCRIPTION:LUNDI 02.12 \nNo 1 Salade verte ou crème de potiron \nPenne tzigane (jambon cru\, asperges\, crème) \n  \nNo 2 Salade verte ou crème de potiron \nRôti de porc (CH) aux pruneaux\,\nPommes de terre au four\, carottes glacées \n  \nMARDI 03.12 \nNo 1 Salade verte ou consommé de bœuf aux petits pois \nCasarecce alla petroniana (bolognaise\, crème) \n  \nNo 2 Salade verte ou consommé de bœuf aux petits pois \nRagoût de cerf (EU) aux airelles\, tagliatelle au beurre \n  \nMERCREDI 04.12 \nNo 1 Salade verte ou crème de tomate \nLinguine all’amalfitana (ricotta\, basilic\, s. tomate) \n  \nNo 2 Salade verte ou crème de tomate \nEntrecôte parisienne (CH) sauce béarnaise\,\nTomates au four\, pommes carrées \n  \nJEUDI 05.12 \nNo 1 Salade verte ou potage paysan \nFarfalle Belle Epoque (crème\, champignons\, jambon) \n  \nNo 2 Salade verte ou potage paysan \nPiccata milanaise de poulet (PL)\, spaghetti sauce tomate \n  \nVENDREDI 06.12 \nNo 1 Salade verte ou Crème de brocoli \nConchiglie aux crevettes (s. tomate\, oignon\, ail\, crevettes) \n  \nNo 2 Salade verte ou crème de brocoli \nFilets de perche (RU) meunière\, pommes vapeur
URL:https://pizzeria-neuchatel.ch/event/menus-de-la-semaine-49-2/
CATEGORIES:Menu
END:VEVENT
BEGIN:VEVENT
DTSTART;TZID=Europe/Zurich:20241209T080000
DTEND;TZID=Europe/Zurich:20241213T143000
DTSTAMP:20260424T081429
CREATED:20241206T151026Z
LAST-MODIFIED:20241206T151026Z
UID:2416-1733731200-1734100200@pizzeria-neuchatel.ch
SUMMARY:Menus de la semaine 50
DESCRIPTION:LUNDI 09.12 \nNo 1 Salade verte ou crème de bolets \nRigatoni all’arrabiata (ail\, oignon\, piment\, lard\, s. tomate) \nNo 2 Salade verte ou crème de bolets \nBœuf (PAR) Stroganoff (poivrons\, olives\, cornichon)\nTagliatelle au beurre \n  \nMARDI 10.12 \nNo 1 Salade verte ou potage aux légumes \nGnocchi al gorgonzola (crème\, gorgonzola) \n  \nNo 2 Salade verte ou potage aux légumes \nOsso buco (CH) de porc alla milanaise\, polenta \n  \nMERCREDI 11.12 \nNo 1 Salade verte ou crème de poireaux et de pommes de terre \nOrecchiette alla diavola (s. tomate\, poivrons\, olives) \n  \nNo 2 Salade verte ou crème de poireaux et de pommes de terre \nRôti de veau (CH) aux herbes\, pommes croquettes\nHaricots verts \n  \nJEUDI 12.12 \nNo 1 Salade verte ou minestrone \nCannelloni ricotta et épinards (béchamel\, s. tomate) \n  \nNo 2 Salade verte ou minestrone \nScaloppine de poulet (PL) aux champignons\, pommes frites \n  \nVENDREDI 13.12 \nNo 1 Salade verte ou crème d’asperges \nLinguine aux vongole (ail\, oignon\, s. tomate\, vongole) \n  \nNo 2 Salade verte ou crème d’asperges \nFilets de rascasse (SAUVAGE) sauce vin blanc\,\nriz aux petits légumes
URL:https://pizzeria-neuchatel.ch/event/menus-de-la-semaine-50-2/
CATEGORIES:Menu
END:VEVENT
BEGIN:VEVENT
DTSTART;TZID=Europe/Zurich:20241216T080000
DTEND;TZID=Europe/Zurich:20241220T143000
DTSTAMP:20260424T081429
CREATED:20241213T132828Z
LAST-MODIFIED:20241213T133429Z
UID:2450-1734336000-1734705000@pizzeria-neuchatel.ch
SUMMARY:Menus de la semaine 51
DESCRIPTION:LUNDI 16.12 \nNo 1 Salade verte ou crème de brocoli \nPenne 4 fromages (taleggio\, gruyère\, parmesan\, emmental) \n  \nNo 2 Salade verte ou crème de brocoli \nJambon de campagne (CH)\, sauce marsala\nRösti galette\, carottes glacées \n  \nMARDI 17.12 \nNo 1 Salade verte ou potage paysan \nSpaghetti à l’italienne (s. tomate\, crème basilic) \n  \nNo 2 Salade verte ou potage paysan \nEmincé de veau (CH) à la crème\, riz créole \n  \nMERCREDI 18.12 \nNo 1 Salade verte ou crème d’avoine \nFusilli al pesto (crème\, pesto) \n  \nNo 2 Salade verte ou crème d’avoine \nCordon bleu de porc (CH) spaghetti al pomodoro \n  \nJEUDI 19.12 \nNo 1 Salade verte ou potage aux pois verts \nTagliatelle primavera (s. tomate\, crème\, petits pois\, jambon\, poivrons) \n  \nNo 2 Salade verte ou potage aux pois verts \nSteak vigneron (CH) sauce au poivre rose\, pommes carrées\, tomate au four \n  \nVENDREDI 20.12 \nNo 1 Salade verte ou potage à l’orge des Grisons \nGnocchetti corallo verde (crème\, épinards\, crevettes) \n  \nNo 2 Salade verte ou potage à l’orge des Grisons \nFilet de sandre meunière (RU) pommes persillées \n 
URL:https://pizzeria-neuchatel.ch/event/menus-de-la-semaine-51-2/
CATEGORIES:Menu
END:VEVENT
BEGIN:VEVENT
DTSTART;TZID=Europe/Zurich:20241223T080000
DTEND;TZID=Europe/Zurich:20241227T143000
DTSTAMP:20260424T081429
CREATED:20241220T124216Z
LAST-MODIFIED:20241220T134337Z
UID:2477-1734940800-1735309800@pizzeria-neuchatel.ch
SUMMARY:Menus de la semaine 52
DESCRIPTION:LUNDI 23.12 \nNo 1 Salade verte ou crème de potiron \nConchiglie Belle Epoque (crème\, champignons\, jambon) \n  \nNo 2 Salade verte ou crème de potiron \nEmincé de poulet (PL) au curry\, riz aux petits pois \n  \nMARDI 24.12 \nNo 1 Salade verte ou potage aux légumes \nLinguine alla puttanesca (olives\, câpres\, anchois\, s. tomate)  \n  \nNo 2 Salade verte ou potage aux légumes \nScaloppine de porc (CH) à la moutarde\, pommes soufflées\, légumes \n  \nMERCREDI 25.12 \n  \nFermé  \n  \nJEUDI 26.12 \nNo 1 Salade verte ou crème de bolets \nCasarecce alla norma (s. tomate\, aubergines\, copeaux de parmesan) \n  \nNo 2 Salade verte ou crème de bolets \nSteak de cheval (AR) sauce poivre vert\, tagliatelle au beurre \n  \nVENDREDI 27.12 \nNo 1 Salade verte ou crème de tomate \nFarfalle au thon (s. tomate\, oignon\, ail\, thon) \n  \nNo 2 Salade verte ou crème de tomate \nCrevettes (VIET) au safran\, pommes frites\, haricots verts
URL:https://pizzeria-neuchatel.ch/event/menus-de-la-semaine-52-2/
CATEGORIES:Menu
END:VEVENT
BEGIN:VEVENT
DTSTART;TZID=Europe/Zurich:20241230T080000
DTEND;TZID=Europe/Zurich:20250103T143000
DTSTAMP:20260424T081429
CREATED:20241230T080205Z
LAST-MODIFIED:20241230T080205Z
UID:2513-1735545600-1735914600@pizzeria-neuchatel.ch
SUMMARY:Menus de la semaine 1
DESCRIPTION:LUNDI 30.12 \nNo 1 Salade verte ou crème de volaille \nSpaghetti alla petroniana (crème\, bolognaise) \n  \nNo 2 Salade verte ou crème de volaille \nRôti Neuchâtelois de porc (CH) avec son jus\, pommes purées\nChoux de Bruxelles \n  \nMARDI 31.12 \nNo 1 Salade verte ou consommé de bœuf \nPenne alla carbonara (crème\, jambon\, oeufs) \n \n  \nNo 2 Salade verte ou consommé de bœuf \nRagoût de bœuf (PAR) au paprika\, tagliatelle au beurre \n  \nMERCREDI 01.01 \n  \nOuvert uniquement le soir \n  \nJEUDI 02.01 \nNo 1 Salade verte ou crème de potiron \nRigatoni all’ amatriciana (ail\, oignon\, s. tomate\, pancetta) \n  \nNo 2 Salade verte ou crème de potiron \nJambon paysan (CH) sauce au vin rouge\, haricots verts\nPommes croquettes \n  \nVENDREDI 03.01 \nNo 1 Salade verte ou potage bernois aux pois jaunes \nFusilli au saumon fumé (NOR)\n(oignon\, aneth\, crème saumon) \n  \nNo 2 Salade verte ou potage bernois aux pois jaunes \n  Filet de loup de mer (TUR)\, sauce à l’estragon\nRiz pilaf \n 
URL:https://pizzeria-neuchatel.ch/event/menus-de-la-semaine-1-2/
CATEGORIES:Menu
END:VEVENT
END:VCALENDAR