BEGIN:VCALENDAR
VERSION:2.0
PRODID:-//La Fleur-de-Lys - Restaurant et Pizzeria à Neuchâtel - ECPv6.15.20//NONSGML v1.0//EN
CALSCALE:GREGORIAN
METHOD:PUBLISH
X-ORIGINAL-URL:https://pizzeria-neuchatel.ch
X-WR-CALDESC:Évènements pour La Fleur-de-Lys - Restaurant et Pizzeria à Neuchâtel
REFRESH-INTERVAL;VALUE=DURATION:PT1H
X-Robots-Tag:noindex
X-PUBLISHED-TTL:PT1H
BEGIN:VTIMEZONE
TZID:Europe/Zurich
BEGIN:DAYLIGHT
TZOFFSETFROM:+0100
TZOFFSETTO:+0200
TZNAME:CEST
DTSTART:20230326T010000
END:DAYLIGHT
BEGIN:STANDARD
TZOFFSETFROM:+0200
TZOFFSETTO:+0100
TZNAME:CET
DTSTART:20231029T010000
END:STANDARD
BEGIN:DAYLIGHT
TZOFFSETFROM:+0100
TZOFFSETTO:+0200
TZNAME:CEST
DTSTART:20240331T010000
END:DAYLIGHT
BEGIN:STANDARD
TZOFFSETFROM:+0200
TZOFFSETTO:+0100
TZNAME:CET
DTSTART:20241027T010000
END:STANDARD
BEGIN:DAYLIGHT
TZOFFSETFROM:+0100
TZOFFSETTO:+0200
TZNAME:CEST
DTSTART:20250330T010000
END:DAYLIGHT
BEGIN:STANDARD
TZOFFSETFROM:+0200
TZOFFSETTO:+0100
TZNAME:CET
DTSTART:20251026T010000
END:STANDARD
BEGIN:DAYLIGHT
TZOFFSETFROM:+0100
TZOFFSETTO:+0200
TZNAME:CEST
DTSTART:20260329T010000
END:DAYLIGHT
BEGIN:STANDARD
TZOFFSETFROM:+0200
TZOFFSETTO:+0100
TZNAME:CET
DTSTART:20261025T010000
END:STANDARD
END:VTIMEZONE
BEGIN:VEVENT
DTSTART;TZID=Europe/Zurich:20241230T080000
DTEND;TZID=Europe/Zurich:20250103T143000
DTSTAMP:20260424T093830
CREATED:20241230T080205Z
LAST-MODIFIED:20241230T080205Z
UID:2513-1735545600-1735914600@pizzeria-neuchatel.ch
SUMMARY:Menus de la semaine 1
DESCRIPTION:LUNDI 30.12 \nNo 1 Salade verte ou crème de volaille \nSpaghetti alla petroniana (crème\, bolognaise) \n  \nNo 2 Salade verte ou crème de volaille \nRôti Neuchâtelois de porc (CH) avec son jus\, pommes purées\nChoux de Bruxelles \n  \nMARDI 31.12 \nNo 1 Salade verte ou consommé de bœuf \nPenne alla carbonara (crème\, jambon\, oeufs) \n \n  \nNo 2 Salade verte ou consommé de bœuf \nRagoût de bœuf (PAR) au paprika\, tagliatelle au beurre \n  \nMERCREDI 01.01 \n  \nOuvert uniquement le soir \n  \nJEUDI 02.01 \nNo 1 Salade verte ou crème de potiron \nRigatoni all’ amatriciana (ail\, oignon\, s. tomate\, pancetta) \n  \nNo 2 Salade verte ou crème de potiron \nJambon paysan (CH) sauce au vin rouge\, haricots verts\nPommes croquettes \n  \nVENDREDI 03.01 \nNo 1 Salade verte ou potage bernois aux pois jaunes \nFusilli au saumon fumé (NOR)\n(oignon\, aneth\, crème saumon) \n  \nNo 2 Salade verte ou potage bernois aux pois jaunes \n  Filet de loup de mer (TUR)\, sauce à l’estragon\nRiz pilaf \n 
URL:https://pizzeria-neuchatel.ch/event/menus-de-la-semaine-1-2/
CATEGORIES:Menu
END:VEVENT
BEGIN:VEVENT
DTSTART;TZID=Europe/Zurich:20250106T080000
DTEND;TZID=Europe/Zurich:20250110T143000
DTSTAMP:20260424T093830
CREATED:20250105T172612Z
LAST-MODIFIED:20250105T172612Z
UID:2536-1736150400-1736519400@pizzeria-neuchatel.ch
SUMMARY:Menus de la semaine 2
DESCRIPTION:LUNDI 06.01 \nNo 1 Salade verte ou crème d’avoine \nTagliatelle aux chanterelles (oignon\, ail\, chanterelles\, crème) \n  \nNo 2 Salade verte ou crème d’avoine \nRagoût de veau (CH) aux champignons\, riz aux petits légumes \n  \nMARDI 07.01 \nNo 1 Salade verte ou minestrone \nGnocchi alla vesuviana (salami\, gorgonzola\, s. tomate) \n \nNo 2 Salade verte ou minestrone \nBrochettes de bœuf et cheval (PAR / ISL) sauce aux poivrons\, pâtes au beurre \n  \nMERCREDI 08.01 \nNo 1 Salade verte ou potage aux pois verts \nTortellini aux 4 fromages (crème) \n \n  \nNo 2 Salade verte ou potage aux pois verts \nSuprême de poulet(CH) sauce au citron et basilic\nPommes au four\, haricots verts \n  \nJEUDI 09.01 \nNo 1 Salade verte ou crème de choux fleur et carottes. \nConchiglie alla boscaiola (saucisse\, champignons\, s. tomate) \n  \nNo 2 Salade verte ou crème de choux fleur et carottes \nOsso bucco de porc (CH) alla milanaise\, risotto au safran \n  \nVENDREDI 10.01 \nNo 1 Salade verte ou potage aux asperges \nGnocchetti aux fruits de mer (s. tomate\, fruits de mer) \n  \nNo 2 Salade verte ou potage aux asperges \nFilets de perche meunière (RU)\nPommes persillées
URL:https://pizzeria-neuchatel.ch/event/menus-de-la-semaine-2-2/
CATEGORIES:Menu
END:VEVENT
BEGIN:VEVENT
DTSTART;TZID=Europe/Zurich:20250113T080000
DTEND;TZID=Europe/Zurich:20250117T143000
DTSTAMP:20260424T093830
CREATED:20250110T154342Z
LAST-MODIFIED:20250110T154342Z
UID:2558-1736755200-1737124200@pizzeria-neuchatel.ch
SUMMARY:Menus de la semaine 3
DESCRIPTION:LUNDI 13.01 \nNo 1 Salade verte ou potage à l’orge des Grisons \nPenne tzigane (jambon cru\, asperges\, crème) \n  \nNo 2 Salade verte ou potage à l’orge des Grisons \nSaltimbocca (CH) alla romana\, tomate au four\, pommes soufflées \n  \nMARDI 14.01 \nNo 1 Salade verte ou crème de poireaux et pommes de terre \nFarfalle primavera (s. tomate\, poivrons\, petits pois\, jambon\, crème) \n  \nNo 2 Salade verte ou crème de poireaux et pommes de terre \nEmincé de bœuf (CH) aux olives\, pâtes au beurre \n  \nMERCREDI 15.01 \nNo 1 Salade verte ou consommé de bœuf aux croutons \nLinguine sciué sciué(tomates fraîches\, basilic\, ail\, piment) \n  \nNo 2 Salade verte ou consommé de bœuf aux croutons \nEscalope panée de porc (CH) pommes frites \n  \nJEUDI 16.01 \nNo 1 Salade verte ou crème de tomates \nCannelloni ricotta et épinards (béchamel\, s. tomate) \n  \nNo 2 Salade verte ou crème de tomates \nPiccata de poulet (POL) spaghetti al pomodoro \n  \nVENDREDI 17.01 \nNo 1 Salade verte ou potage à la courge \nCasarecce crevettes et courgettes (crème\, crevettes\, courgettes) \n  \nNo 2 Salade verte ou potage à la courge \nFilet de saumon (NOR) sauce hollandaise\nRiz pilaf
URL:https://pizzeria-neuchatel.ch/event/menus-de-la-semaine-3-2/
CATEGORIES:Menu
END:VEVENT
BEGIN:VEVENT
DTSTART;TZID=Europe/Zurich:20250120T080000
DTEND;TZID=Europe/Zurich:20250124T143000
DTSTAMP:20260424T093830
CREATED:20250117T135200Z
LAST-MODIFIED:20250117T135200Z
UID:2589-1737360000-1737729000@pizzeria-neuchatel.ch
SUMMARY:Menus de la semaine 4
DESCRIPTION:LUNDI 20.01 \nNo 1 Salade verte ou crème de brocolis \nFusilli al pesto (crème\, pesto) \n  \nNo 2 Salade verte ou crème de brocolis \nEmincé de veau (CH) à la crème\, riz aux petits pois \n  \nMARDI 21.01 \nNo 1 Salade verte ou potage bernois aux pois jaunes \nOrecchiette alla diavola (poivrons\, olives\, s. tomate\, piment) \n  \nNo 2 Salade verte ou potage bernois aux pois jaunes \nCordon bleu de porc (CH) spaghetti al pomodoro \n  \nMERCREDI 22.01 \nNo 1 Salade verte ou crème de volaille \nGnocchi al gorgonzola (crème\, gorgonzola) \n  \nNo 2 Salade verte ou crème de volaille \nSteak vigneron (CH) sauce au poivre rose\, carottes glacées\, galette de rösti \n  \nJEUDI 23.01 \nNo 1 Salade verte ou potage aux pois verts \nConchiglie Belle Epoque (jambon\, champignons\, crème) \n  \nNo 2 Salade verte ou potage aux pois verts \nScaloppine de poulet (POL) aux champignons\, pâtes au beurre \n  \nVENDREDI 24.01 \nNo 1 Salade verte ou crème d’asperge \nLinguine aux vongole (s. tomate\, ail\, oignon\, vongole) \n  \nNo 2 Salade verte ou crème d’asperge \nFilet de sandre (RU) meunière\nPommes vapeur \n 
URL:https://pizzeria-neuchatel.ch/event/menus-de-la-semaine-4-2/
CATEGORIES:Menu
END:VEVENT
BEGIN:VEVENT
DTSTART;TZID=Europe/Zurich:20250127T080000
DTEND;TZID=Europe/Zurich:20250131T143000
DTSTAMP:20260424T093830
CREATED:20250124T135934Z
LAST-MODIFIED:20250124T135934Z
UID:2628-1737964800-1738333800@pizzeria-neuchatel.ch
SUMMARY:Menus de la semaine 5
DESCRIPTION:LUNDI 27.01 \nNo 1 Salade verte ou crème de bolets \nCasarecce au pesto rouge (crème\, pesto rouge) \n  \nNo 2 Salade verte ou crème de bolets \nRôti de porc (CH) à la provençale\, spätzlis\, haricots verts \n  \nMARDI 28.01 \nNo 1 Salade verte ou minestrone \nTagliatelle alla fiorentina (épinards\, crème\, bolets) \n  \nNo 2 Salade verte ou minestrone \nEmincé de poulet (CH) au curry\, riz créole \n  \nMERCREDI 29.01 \nNo 1 Salade verte ou potage paysan \nPenne alla petroniana (bolognaise\, crème) \n  \nNo 2 Salade verte ou potage paysan \nEntrecôte de bœuf (PAR) sauce au poivre vert\,\nPommes frites\, légumes \n  \nJEUDI 30.01 \nNo 1 Salade verte ou crème d’avoine \nRigatoni alla zingara (s.tomate\, jambon\, gorgonzola) \n  \nNo 2 Salade verte ou crème d’avoine \nCôtelette de porc (CH) sauce moutarde\, tagliatelle au beurre \n  \nVENDREDI 31.01 \nNo 1 Salade verte ou crème de potiron \nFarfalle au saumon fumé (oignon\, aneth\, saumon fumé\, crème) \n  \nNo 2 Salade verte ou crème de potiron \n       Filet de rascasse (SAUVAGE) sauce au vin blanc\nPommes persillées
URL:https://pizzeria-neuchatel.ch/event/menus-de-la-semaine-5/
CATEGORIES:Menu
END:VEVENT
END:VCALENDAR