BEGIN:VCALENDAR
VERSION:2.0
PRODID:-//La Fleur-de-Lys - Restaurant et Pizzeria à Neuchâtel - ECPv6.15.20//NONSGML v1.0//EN
CALSCALE:GREGORIAN
METHOD:PUBLISH
X-WR-CALNAME:La Fleur-de-Lys - Restaurant et Pizzeria à Neuchâtel
X-ORIGINAL-URL:https://pizzeria-neuchatel.ch
X-WR-CALDESC:Évènements pour La Fleur-de-Lys - Restaurant et Pizzeria à Neuchâtel
REFRESH-INTERVAL;VALUE=DURATION:PT1H
X-Robots-Tag:noindex
X-PUBLISHED-TTL:PT1H
BEGIN:VTIMEZONE
TZID:Europe/Zurich
BEGIN:DAYLIGHT
TZOFFSETFROM:+0100
TZOFFSETTO:+0200
TZNAME:CEST
DTSTART:20240331T010000
END:DAYLIGHT
BEGIN:STANDARD
TZOFFSETFROM:+0200
TZOFFSETTO:+0100
TZNAME:CET
DTSTART:20241027T010000
END:STANDARD
BEGIN:DAYLIGHT
TZOFFSETFROM:+0100
TZOFFSETTO:+0200
TZNAME:CEST
DTSTART:20250330T010000
END:DAYLIGHT
BEGIN:STANDARD
TZOFFSETFROM:+0200
TZOFFSETTO:+0100
TZNAME:CET
DTSTART:20251026T010000
END:STANDARD
BEGIN:DAYLIGHT
TZOFFSETFROM:+0100
TZOFFSETTO:+0200
TZNAME:CEST
DTSTART:20260329T010000
END:DAYLIGHT
BEGIN:STANDARD
TZOFFSETFROM:+0200
TZOFFSETTO:+0100
TZNAME:CET
DTSTART:20261025T010000
END:STANDARD
END:VTIMEZONE
BEGIN:VEVENT
DTSTART;TZID=Europe/Zurich:20250303T080000
DTEND;TZID=Europe/Zurich:20250307T143000
DTSTAMP:20260424T035305
CREATED:20250228T142841Z
LAST-MODIFIED:20250228T142841Z
UID:2777-1740988800-1741357800@pizzeria-neuchatel.ch
SUMMARY:Menus de la semaine 10
DESCRIPTION:LUNDI 03.03 \nNo 1 Salade verte ou potage aux légumes \nLinguine all’amalfitana (ricotta\, basilic\, s. tomate) \nNo 2 Salade verte ou potage aux légumes \nRôti de porc (CH) aux abricots avec son jus\, choux de Bruxelles\, spätzlis \n  \nMARDI 04.03 \nNo 1 Salade verte ou crème de champignons \nFusilli frais alla contadina (s. tomate\, saucisse fraîche\, champignons) \n  \nNo 2 Salade verte ou crème de champignons \nEmincé de poulet (CH) au curry\, riz créole \n  \nMERCREDI 05.03 \nNo 1 Salade verte ou potage au cœur d’avoine \nGnocchi al gorgonzola (crème\, gorgonzola) \nNo 2 Salade verte ou potage au cœur d’avoine \nRagoût de veau (CH) au paprika\, tagliatelle au beurre \n  \nJEUDI 06.03 \nNo 1 Salade verte ou crème de tomates \nFarfalle tzigane (crème\, asperges\, jambon cru) \nNo 2 Salade verte ou crème de tomates \nEntrecôte parisienne (CH) sauce béarnaise\nPommes croquettes\, haricots verts \n  \nVENDREDI 07.03 \nNo 1 Salade verte ou potage bernois aux pois jaunes \nPaglia e fieno Mare e Monti (crème\, fruits de mer\, bolets) \nNo 2 Salade verte ou potage bernois aux pois jaunes \nCrevettes au safran (VIET)\, pommes frites
URL:https://pizzeria-neuchatel.ch/event/menus-de-la-semaine-10/
CATEGORIES:Menu
END:VEVENT
BEGIN:VEVENT
DTSTART;TZID=Europe/Zurich:20250310T080000
DTEND;TZID=Europe/Zurich:20250314T143000
DTSTAMP:20260424T035305
CREATED:20250307T132541Z
LAST-MODIFIED:20250307T132541Z
UID:2798-1741593600-1741962600@pizzeria-neuchatel.ch
SUMMARY:Menus de la semaine 11
DESCRIPTION:LUNDI 10.03 \nNo 1 Salade verte ou crème de cresson \nFusilli Butterfly (tomates fraîches\, courgettes\, basilic) \n  \nNo 2 Salade verte ou crème de cresson \nSaltimbocca de porc (CH) alla romana\, pommes mousseline\, carottes glacées \n  \nMARDI 11.03 \nNo 1 Salade verte ou potage à l’orge des Grisons \nRavioli farci à l’ail des ours (crème) \n  \nNo 2 Salade verte ou potage à l’orge des Grisons \nSteak de cheval (ARG) au poivre rose\, tagliatelle au beurre \n  \nMERCREDI 12.03 \nNo 1 Salade verte ou crème de chou-fleur et carottes \nOrecchiette alla vesuviana (s.tomate\, gorgonzola\, salami piquant) \n  \nNo 2 Salade verte ou crème de chou-fleur et carottes \nRagoût de bœuf (PAR) Stroganoff\, riz aux petits légumes \n  \nJEUDI 13.03 \nNo 1 Salade verte ou potage paysan \nSpaghetti alla puttanesca (s. tomate\, anchois\, olives\, câpres) \n  \nNo 2 Salade verte ou potage paysan \nSteak vigneron (CH) sauce au vin rouge\nPommes carrées\, tomate au four \n  \nVENDREDI 14.03 \nNo 1 Salade verte ou crème de bolets \nCasarecce corallo verde (crème\, crevettes\, épinards) \n  \nNo 2 Salade verte ou crème de bolets \nFilets de perche (RUS) meunière\, pommes persillées
URL:https://pizzeria-neuchatel.ch/event/menus-de-la-semaine-11-2/
CATEGORIES:Menu
END:VEVENT
BEGIN:VEVENT
DTSTART;TZID=Europe/Zurich:20250317T080000
DTEND;TZID=Europe/Zurich:20250321T143000
DTSTAMP:20260424T035305
CREATED:20250314T135838Z
LAST-MODIFIED:20250314T135838Z
UID:2825-1742198400-1742567400@pizzeria-neuchatel.ch
SUMMARY:Menus de la semaine 12
DESCRIPTION:LUNDI 17.03 \nNo 1 Salade verte ou potage bâlois \nPenne all’italienne (s.tomate\, crème\, basilic) \n  \nNo 2 Salade verte ou potage bâlois \nEscalope panée de porc (CH) spaghetti al pomodoro \n  \nMARDI 18.03 \nNo 1 Salade verte ou crème de brocoli \nConchiglie Belle Epoque (crème\, champignons\, jambon) \n  \nNo 2 Salade verte ou crème de brocoli \nEmincé de veau (CH) à la crème\, riz pilaf \n  \nMERCREDI 19.03 \nNo 1 Salade verte ou potage printanier \nTagliatelle aux chanterelles (crème\, chanterelles\, oignon) \n  \nNo 2 Salade verte ou potage printanier \nRôti de porc (CH) Neuchâtelois\, pommes frites\, légumes \n  \nJEUDI 20.03 \nNo 1 Salade verte ou minestrone \nCannelloni ricotta et épinards (béchamel\, s. tomate) \n  \nNo 2 Salade verte ou minestrone \nScaloppine de poulet (PL) sauce poivre vert\, pâtes au beurre \n  \nVENDREDI 21.03 \nNo 1 Salade verte ou crème de légumes \nFarfalle alla palermitana (s. tomate\, thon\, câpres) \n  \nNo 2 Salade verte ou crème de légumes \nFilet de sandre (SAUVAGE) meunière\, pommes vapeur
URL:https://pizzeria-neuchatel.ch/event/menus-de-la-semaine-12-2/
CATEGORIES:Menu
END:VEVENT
BEGIN:VEVENT
DTSTART;TZID=Europe/Zurich:20250324T080000
DTEND;TZID=Europe/Zurich:20250328T143000
DTSTAMP:20260424T035305
CREATED:20250321T133201Z
LAST-MODIFIED:20250321T133201Z
UID:2839-1742803200-1743172200@pizzeria-neuchatel.ch
SUMMARY:Menus de la semaine 13
DESCRIPTION:LUNDI 24.03 \nNo 1 Salade verte ou crème de champignons \nGnocchi al pesto (crème\, pesto) \n  \nNo 2 Salade verte ou crème de champignons \nJambon paysan (CH) sauce marsala\, pommes de terre au four\nHaricots verts \n  \nMARDI 25.03 \nNo 1 Salade verte ou potage au potiron \nCasarecce alla bolognese  \n  \nNo 2 Salade verte ou potage au potiron \nBrochette de bœuf (PAR) sauce aux poivrons\, galette de rösti\nCarottes glacées \n  \nMERCREDI 26.03 \nNo 1 Salade verte ou crème de livèche \nRigatoni all’amatriciana (s.tomate\, oignon\, pancetta) \n  \nNo 2 Salade verte ou crème de livèche \nOsso bucco de porc (CH) à la milanaise\, risotto au safran \n  \nJEUDI 27.03 \nNo 1 Salade verte ou potage bernois aux pois jaunes \nTortellini farcis aux 4 fromages\, sauce Aurora (crème\, s. tomate) \n  \nNo 2 Salade verte ou potage bernois aux pois jaunes \nRagoût de veau (CH) aux olives\, tagliatelle au beurre \n  \nVENDREDI 28.03 \nNo 1 Salade verte ou crème de tomates \nLinguine alle vongole (s. tomate\, ail\, vongole) \n  \nNo 2 Salade verte ou crème de tomates \nFilet de saumon (NOR)à la sauce tomate et basilic\nRiz aux petits pois
URL:https://pizzeria-neuchatel.ch/event/menus-de-la-semaine-13-2/
CATEGORIES:Menu
END:VEVENT
BEGIN:VEVENT
DTSTART;TZID=Europe/Zurich:20250331T080000
DTEND;TZID=Europe/Zurich:20250404T140000
DTSTAMP:20260424T035305
CREATED:20250328T131604Z
LAST-MODIFIED:20250328T135219Z
UID:2876-1743408000-1743775200@pizzeria-neuchatel.ch
SUMMARY:Menus de la semaine 14
DESCRIPTION:LUNDI 31.03 \nNo 1 Salade verte ou potage printanier \nLinguine scué scué (tomates fraîches\, ail\, piment\, basilic) \nNo 2 Salade verte ou potage printanier \nRôti de porc (CH) aux abricots\, sauce abricotine\, pommes purées\nCourgettes sautées \n  \nMARDI 01.04 \nNo 1 Salade verte ou crème de chou-fleur \nOrechiette primavera (crème\, poivrons\, petits pois) \n  \nNo 2 Salade verte ou crème de chou-fleur \nPiccata de poulet (PL) alla milanaise\, spaghetti sauce tomate \n  \nMERCREDI 02.04 \nNo 1 Salade verte ou potage bâlois \nCannelloni ricotta et épinards (béchamel\, s. tomate) \n  \nNo 2 Salade verte ou potage bâlois \nEntrecôte parisienne (CH) sauce poivre vert\, pommes frites \n  \nJEUDI 03.04 \nNo 1 Salade verte ou crème de cresson \nTagliatelle aux asperges (crème\, ail\, asperges vertes) \n  \nNo 2 Salade verte ou crème de cresson \nSaltimbocca de porc (CH)alla romana\, riz créole \n  \nVENDREDI 04.04 \nNo 1 Salade verte ou consommé de bœuf \nConchiglie aux fruits de mer \n  \nNo 2 Salade verte ou consommé de bœuf \nFilets de perche meunière (RUS) \nPommes vapeur
URL:https://pizzeria-neuchatel.ch/event/menus-de-la-semaine-14-2/
CATEGORIES:Menu
END:VEVENT
END:VCALENDAR