BEGIN:VCALENDAR
VERSION:2.0
PRODID:-//La Fleur-de-Lys - Restaurant et Pizzeria à Neuchâtel - ECPv6.15.20//NONSGML v1.0//EN
CALSCALE:GREGORIAN
METHOD:PUBLISH
X-WR-CALNAME:La Fleur-de-Lys - Restaurant et Pizzeria à Neuchâtel
X-ORIGINAL-URL:https://pizzeria-neuchatel.ch
X-WR-CALDESC:Évènements pour La Fleur-de-Lys - Restaurant et Pizzeria à Neuchâtel
REFRESH-INTERVAL;VALUE=DURATION:PT1H
X-Robots-Tag:noindex
X-PUBLISHED-TTL:PT1H
BEGIN:VTIMEZONE
TZID:Europe/Zurich
BEGIN:DAYLIGHT
TZOFFSETFROM:+0100
TZOFFSETTO:+0200
TZNAME:CEST
DTSTART:20240331T010000
END:DAYLIGHT
BEGIN:STANDARD
TZOFFSETFROM:+0200
TZOFFSETTO:+0100
TZNAME:CET
DTSTART:20241027T010000
END:STANDARD
BEGIN:DAYLIGHT
TZOFFSETFROM:+0100
TZOFFSETTO:+0200
TZNAME:CEST
DTSTART:20250330T010000
END:DAYLIGHT
BEGIN:STANDARD
TZOFFSETFROM:+0200
TZOFFSETTO:+0100
TZNAME:CET
DTSTART:20251026T010000
END:STANDARD
BEGIN:DAYLIGHT
TZOFFSETFROM:+0100
TZOFFSETTO:+0200
TZNAME:CEST
DTSTART:20260329T010000
END:DAYLIGHT
BEGIN:STANDARD
TZOFFSETFROM:+0200
TZOFFSETTO:+0100
TZNAME:CET
DTSTART:20261025T010000
END:STANDARD
END:VTIMEZONE
BEGIN:VEVENT
DTSTART;TZID=Europe/Zurich:20250331T080000
DTEND;TZID=Europe/Zurich:20250404T140000
DTSTAMP:20260424T023001
CREATED:20250328T131604Z
LAST-MODIFIED:20250328T135219Z
UID:2876-1743408000-1743775200@pizzeria-neuchatel.ch
SUMMARY:Menus de la semaine 14
DESCRIPTION:LUNDI 31.03 \nNo 1 Salade verte ou potage printanier \nLinguine scué scué (tomates fraîches\, ail\, piment\, basilic) \nNo 2 Salade verte ou potage printanier \nRôti de porc (CH) aux abricots\, sauce abricotine\, pommes purées\nCourgettes sautées \n  \nMARDI 01.04 \nNo 1 Salade verte ou crème de chou-fleur \nOrechiette primavera (crème\, poivrons\, petits pois) \n  \nNo 2 Salade verte ou crème de chou-fleur \nPiccata de poulet (PL) alla milanaise\, spaghetti sauce tomate \n  \nMERCREDI 02.04 \nNo 1 Salade verte ou potage bâlois \nCannelloni ricotta et épinards (béchamel\, s. tomate) \n  \nNo 2 Salade verte ou potage bâlois \nEntrecôte parisienne (CH) sauce poivre vert\, pommes frites \n  \nJEUDI 03.04 \nNo 1 Salade verte ou crème de cresson \nTagliatelle aux asperges (crème\, ail\, asperges vertes) \n  \nNo 2 Salade verte ou crème de cresson \nSaltimbocca de porc (CH)alla romana\, riz créole \n  \nVENDREDI 04.04 \nNo 1 Salade verte ou consommé de bœuf \nConchiglie aux fruits de mer \n  \nNo 2 Salade verte ou consommé de bœuf \nFilets de perche meunière (RUS) \nPommes vapeur
URL:https://pizzeria-neuchatel.ch/event/menus-de-la-semaine-14-2/
CATEGORIES:Menu
END:VEVENT
BEGIN:VEVENT
DTSTART;TZID=Europe/Zurich:20250407T080000
DTEND;TZID=Europe/Zurich:20250411T143000
DTSTAMP:20260424T023001
CREATED:20250404T122809Z
LAST-MODIFIED:20250404T122809Z
UID:2912-1744012800-1744381800@pizzeria-neuchatel.ch
SUMMARY:Menus de la semaine 15
DESCRIPTION:LUNDI 07.04 \nNo 1 Salade verte ou crème de poireaux \nFarfalle alla boscaiola (s. tomate\, champignons\, saucisse luganega) \nNo 2 Salade verte ou crème de poireaux \nEmincé de bœuf (CH) au paprika\, légumes \n  \nMARDI 08.04 \nNo 1 Salade verte ou potage au brocoli \nPenne alla carbonara (crème\, jambon\, œuf) \nNo 2 Salade verte ou potage au brocoli \nSteak vigneron de bœuf (CH) sauce bordelaise\, pommes carrées\nTomate au four \n  \nMERCREDI 09.04 \nNo 1 Salade verte ou crème de volaille \nCasarecce alla diavola (s. tomate\, poivrons\, olives\, piment) \nNo 2 Salade verte ou crème de volaille \nCordon bleu de porc (CH) spaghetti al pomodoro \n  \nJEUDI 10.04 \nNo 1 Salade verte ou potage à la courge \nTortelli aux asperges vertes (beurre et sauge) \nNo 2 Salade verte ou potage à la courge \nRôti de veau (CH) aux herbes\, pommes de terre au four\, carottes glacées \n  \nVENDREDI 11.04 \nNo 1 Salade verte ou crème de livèche \nGnocchetti corallo verde (crème\, épinards\, crevettes) \nNo 2 Salade verte ou crème de livèche \nCrevettes (VIET) au pesto rouge\,\nRiz aux petits légumes \n 
URL:https://pizzeria-neuchatel.ch/event/menus-de-la-semaine-15-2/
CATEGORIES:Menu
END:VEVENT
BEGIN:VEVENT
DTSTART;TZID=Europe/Zurich:20250414T080000
DTEND;TZID=Europe/Zurich:20250418T143000
DTSTAMP:20260424T023001
CREATED:20250414T065341Z
LAST-MODIFIED:20250414T065341Z
UID:2951-1744617600-1744986600@pizzeria-neuchatel.ch
SUMMARY:Menus de la semaine 16
DESCRIPTION:LUNDI 14.04 \nNo 1 Salade verte ou crème de bolets \nPenne alla petroniana (bolognaise\, crème) \nNo 2 Salade verte ou crème de bolets \nRagoût de veau (CH) aux olives\, riz pilaf  \n  \nMARDI 15.04 \nNo 1 Salade verte ou minestrone \nRavioli farci à l’ail des ours (crème) \nNo 2 Salade verte ou minestrone \nCôtelette de porc (CH) sauce moutarde à l’ancienne\,\nPommes croquettes\, carottes glacées \n  \nMERCREDI 16.04 \nNo 1 Salade verte ou potage paysan \nSpaghetti alla puttanesca (s. tomate\, anchois\, câpres\, olives) \nNo 2 Salade verte ou potage paysan \nOsso bucco de porc (CH) alla milanaise\, risotto au parmesan \n  \nJEUDI 17.04 \nNo 1 Salade verte ou potage à l’orge des Grisons \nConchiglie tzigane (crème\, asperges\, jambon cru) \nNo 2 Salade verte ou potage à l’orge des Grisons \nScaloppine de poulet (PL) sauce aux champignons\nPommes purées\, haricots verts \n  \nVENDREDI 18.04 \n  \nJour férié\, à la carte
URL:https://pizzeria-neuchatel.ch/event/menus-de-la-semaine-16-2/
CATEGORIES:Menu
END:VEVENT
BEGIN:VEVENT
DTSTART;TZID=Europe/Zurich:20250421T080000
DTEND;TZID=Europe/Zurich:20250425T143000
DTSTAMP:20260424T023001
CREATED:20250422T084117Z
LAST-MODIFIED:20250422T084117Z
UID:2983-1745222400-1745591400@pizzeria-neuchatel.ch
SUMMARY:Menus de la semaine 17
DESCRIPTION:LUNDI 21.04 \n  \nJour férié – à la carte \n  \nMARDI 22.04 \nNo 1 Salade verte ou crème de chou-fleur \nOrecchiette à la barese (crème\, brocoli\, lard) \n  \nNo 2 Salade verte ou crème de chou-fleur \nBrochette de bœuf (PAR) sauce aux poivrons\, tagliatelle au beurre \n  \nMERCREDI 23.04 \nNo 1 Salade verte ou potage au cresson \nLinguine all’amalfitana (s. tomate\, ricotta\, basilic) \n  \nNo 2 Salade verte ou potage au cresson \nJambon paysan (CH) sauce au marsala\, galette de rösti\nCourgettes sautées \n  \nJEUDI 24.04 \nNo 1 Salade verte ou crème de poireaux \nRigatoni all ’amatriciana (s. tomate\, oignon\, lard) \n  \nNo 2 Salade verte ou crème de poireaux \nEmincé de veau (CH) à la crème\, riz aux petits pois \n  \nVENDREDI 25.04 \nNo 1 Salade verte ou consommé de bœuf \nFarfalle au saumon (crème\, oignon\, saumon fumé\, aneth) \n  \nNo 2 Salade verte ou consommé de bœuf \nFilets de perche meunière (RUS)\, pommes persillées
URL:https://pizzeria-neuchatel.ch/event/menus-de-la-semaine-17/
CATEGORIES:Menu
END:VEVENT
BEGIN:VEVENT
DTSTART;TZID=Europe/Zurich:20250428T080000
DTEND;TZID=Europe/Zurich:20250502T143000
DTSTAMP:20260424T023001
CREATED:20250425T124244Z
LAST-MODIFIED:20250425T124244Z
UID:3001-1745827200-1746196200@pizzeria-neuchatel.ch
SUMMARY:Menus de la semaine 18
DESCRIPTION:LUNDI 28.04 \nNo 1 Salade verte ou crème de tomate \nPenne Butterfly (tomates fraîches\, basilic\, courgettes) \nNo 2 Salade verte ou crème de tomate \nEscalope de porc panée (CH)\, spaghetti sauce tomate \n  \nMARDI 29.04 \nNo 1 Salade verte ou crème de potiron \nCannelloni ricotta et épinards (béchamel\, s. tomate) \n  \nNo 2 Salade verte ou crème de potiron \nEmincé de poulet (PL) au curry\, riz pilaf \n  \nMERCREDI 30.04 \nNo 1 Salade verte ou minestrone \nRisotto aux asperges (asperges vertes\, crème) \n  \nNo 2 Salade verte ou minestrone \nEntrecôte parisienne (CH) sauce béarnaise\nPommes soufflées\, légumes \n  \nJEUDI 01.05 \n\nFérié\, à la carte \n  \nVENDREDI 02.05 \nNo 1 Salade verte ou crème de bolets \nGnocchi al pesto et crevettes \n  \nNo 2 Salade verte ou crème de bolets \nFilets de saumon (NOR)\, sauce hollandaise\nPommes frites
URL:https://pizzeria-neuchatel.ch/event/menus-de-la-semaine-18/
CATEGORIES:Menu
END:VEVENT
END:VCALENDAR