BEGIN:VCALENDAR
VERSION:2.0
PRODID:-//La Fleur-de-Lys - Restaurant et Pizzeria à Neuchâtel - ECPv6.15.20//NONSGML v1.0//EN
CALSCALE:GREGORIAN
METHOD:PUBLISH
X-ORIGINAL-URL:https://pizzeria-neuchatel.ch
X-WR-CALDESC:Évènements pour La Fleur-de-Lys - Restaurant et Pizzeria à Neuchâtel
REFRESH-INTERVAL;VALUE=DURATION:PT1H
X-Robots-Tag:noindex
X-PUBLISHED-TTL:PT1H
BEGIN:VTIMEZONE
TZID:Europe/Zurich
BEGIN:DAYLIGHT
TZOFFSETFROM:+0100
TZOFFSETTO:+0200
TZNAME:CEST
DTSTART:20240331T010000
END:DAYLIGHT
BEGIN:STANDARD
TZOFFSETFROM:+0200
TZOFFSETTO:+0100
TZNAME:CET
DTSTART:20241027T010000
END:STANDARD
BEGIN:DAYLIGHT
TZOFFSETFROM:+0100
TZOFFSETTO:+0200
TZNAME:CEST
DTSTART:20250330T010000
END:DAYLIGHT
BEGIN:STANDARD
TZOFFSETFROM:+0200
TZOFFSETTO:+0100
TZNAME:CET
DTSTART:20251026T010000
END:STANDARD
BEGIN:DAYLIGHT
TZOFFSETFROM:+0100
TZOFFSETTO:+0200
TZNAME:CEST
DTSTART:20260329T010000
END:DAYLIGHT
BEGIN:STANDARD
TZOFFSETFROM:+0200
TZOFFSETTO:+0100
TZNAME:CET
DTSTART:20261025T010000
END:STANDARD
END:VTIMEZONE
BEGIN:VEVENT
DTSTART;TZID=Europe/Zurich:20250602T080000
DTEND;TZID=Europe/Zurich:20250606T143000
DTSTAMP:20260423T221212
CREATED:20250530T124324Z
LAST-MODIFIED:20250530T124324Z
UID:3127-1748851200-1749220200@pizzeria-neuchatel.ch
SUMMARY:Menus de la semaine 23
DESCRIPTION:LUNDI 02.06 \nNo 1 Salade verte ou potage paysan \nOrecchiette alla diavola (s. tomate\, olives\, salami piquant) \nNo 2 Salade verte ou potage paysan \nRôti de porc (CH) Neuchâtelois\, sauce bordelaise\, riz aux légumes \n  \nMARDI 03.06 \nNo 1 Salade verte ou crème de tomates \nTagliatelle aux asperges blanches (crème\, ail\, asperges) \nNo 2 Salade verte ou crème de tomates \nSteak de bœuf (PAR) sauce à l’ail\, poêlée de courgettes\nPommes de terre sautées \n  \nMERCREDI 04.06 \nNo 1 Salade verte ou potage aux champignons \nPenne alla petroniana (crème\, bolognaise) \nNo 2 Salade verte ou potage aux champignons \nCôtelette de porc (CH) sauce à la moutarde ancienne\nSpaghetti al pomodoro \n  \nJEUDI 05.06 \nNo 1 Salade verte ou crème de brocoli \nGnocchi al gorgonzola (crème\, gorgonzola) \nNo 2 Salade verte ou crème de brocoli \nScaloppine de poulet (POL) sauce au poivre vert\, pommes frites\, légumes \n  \nVENDREDI 06.06 \nNo 1 Salade verte ou potage au cresson \nFusilli au saumon (crème\, oignon\, aneth\, saumon fumé) \nNo 2 Salade verte ou potage au cresson \nFilets de perche (RUS) sauce meunière\nPommes vapeur
URL:https://pizzeria-neuchatel.ch/event/menus-de-la-semaine-23-2/
CATEGORIES:Menu
END:VEVENT
BEGIN:VEVENT
DTSTART;TZID=Europe/Zurich:20250609T080000
DTEND;TZID=Europe/Zurich:20250613T143000
DTSTAMP:20260423T221212
CREATED:20250606T125540Z
LAST-MODIFIED:20250606T125540Z
UID:3152-1749456000-1749825000@pizzeria-neuchatel.ch
SUMMARY:Menus de la semaine 24
DESCRIPTION:LUNDI 09.06 \n  \nFérié – à la carte \n  \nMARDI 10.06 \nNo 1 Salade verte ou crème de volaille \nRigatoni all’ amatriciana (s. tomate\, ail\, oignon\, pancetta) \n  \nNo 2 Salade verte ou crème de volaille \nCordon bleu de porc (CH)\, spaghetti al pomodoro \n  \nMERCREDI 11.06 \nNo 1 Salade verte ou potage bernois aux pois jaunes \nRavioli farci mascarpone et épinards (crème) \n  \nNo 2 Salade verte ou potage bernois aux pois jaunes \nEmincé de boeuf (CH) aux olives\, mousseline de pommes de terre \n  \nJEUDI 12.06 \nNo 1 Salade verte ou crème de poireaux \nLinguine all’amalfitana (s. tomate\, ricotta\, basilic) \n  \nNo 2 Salade verte ou crème de poireaux \nSteak de cheval (ARG) sauce au poivre rose\nPommes soufflées\, haricots verts \n  \nVENDREDI 13.06 \nNo 1 Salade verte ou potage printanier \nConchiglie au thon (s. tomate\, ail\, oignon\, thon) \n  \nNo 2 Salade verte ou potage printanier \nCrevettes au curry (VIET)\, riz pilaf
URL:https://pizzeria-neuchatel.ch/event/menus-de-la-semaine-24-2/
CATEGORIES:Menu
END:VEVENT
BEGIN:VEVENT
DTSTART;TZID=Europe/Zurich:20250618T080000
DTEND;TZID=Europe/Zurich:20250620T143000
DTSTAMP:20260423T221212
CREATED:20250618T121211Z
LAST-MODIFIED:20250618T121211Z
UID:3200-1750233600-1750429800@pizzeria-neuchatel.ch
SUMMARY:Menus de la semaine 25
DESCRIPTION:LUNDI 16.06 \nNo 1 Salade verte ou 2 boules de glace \nFusilli alla vesuviana (s. tomate\, gorgonzola\, salami piquant) \n  \nNo 2 Salade verte ou 2 boules de glace \nTonnato de dinde (FR)\, pommes frites \n  \nMARDI 17.06 \nNo 1 Salade verte ou 2 boules de glace \nTortello aux asperges (beurre\, sauge) \n  \nNo 2 Salade verte ou 2 boules de glace \nSaltimbocca de porc (CH) alla romana\nRiz aux petits pois \n  \nMERCREDI 18.06 \nNo 1 Salade verte ou 2 boules de glace \nFarfalle Belle Epoque (champignons\, jambon\, crème) \n  \nNo 2 Salade verte ou 2 boules de glace \nSteak vigneron (CH) sauce au vin rouge\, pommes carrées \nTomate au four \n  \nJEUDI 19.06 \nNo 1 Salade verte ou 2 boules de glace \nSpaghetti alla rucola (s. tomate\, rucola\, copeaux de parmesan) \n  \nNo 2 Salade verte ou 2 boules de glace \nRôti de porc (CH) aux pruneaux\, sauce parfumée\nTagliatelle au beurre \n  \nVENDREDI 20.06 \nNo 1 Salade verte ou 2 boules de glace \nConchiglie corallo verde (crevettes\, épinards\, crème) \n  \nNo 2 Salade verte ou 2 boules de glace \nFilets de perche (EU) meunière\, pommes vapeur
URL:https://pizzeria-neuchatel.ch/event/menus-de-la-semaine-25-2/
CATEGORIES:Menu
END:VEVENT
BEGIN:VEVENT
DTSTART;TZID=Europe/Zurich:20250625T080000
DTEND;TZID=Europe/Zurich:20250627T143000
DTSTAMP:20260423T221212
CREATED:20250625T065234Z
LAST-MODIFIED:20250625T065234Z
UID:3229-1750838400-1751034600@pizzeria-neuchatel.ch
SUMMARY:
DESCRIPTION:LUNDI 23.06 \nNo 1 Salade verte ou 2 boules de glace \nPenne alla caprese (tomates fraîches\, mozzarella\, basilic) \nNo 2 Salade verte ou 2 boules de glace \nCôtelette de porc (CH) sauce à la moutarde\nPommes de terre au four\, carottes \n  \nMARDI 24.06 \nNo 1 Salade verte ou 2 boules de glace \nGnocchi au safran (crème\, safran) \n  \nNo 2 Salade verte ou 2 boules de glace \nEmincé de veau (CH) à la crème\, riz créole \n  \nMERCREDI 25.06 \nNo 1 Salade verte ou 2 boules de glace \nRigatoni à l’italienne (s. tomate\, crème\, basilic) \n  \nNo 2 Salade verte ou 2 boules de glace \nPiccata milanaise de poulet (PL)\, spaghetti sauce tomate \n  \nJEUDI 26.06 \nNo 1 Salade verte ou 2 boules de glace \nTagliatelle primavera (crème\, petits pois\, jambon\, poivrons) \n  \nNo 2 Salade verte ou 2 boules de glace \nRoastbeef (CH) sauce tartare\, pommes frites \n  \nVENDREDI 27.06 \nNo 1 Salade verte ou 2 boules de glace \nPenne al pesto \n  \nNo 2 Salade verte ou 2 boules de glace \nFilets de perche (EU) meunière\, jardinière de légumes
URL:https://pizzeria-neuchatel.ch/event/3229/
CATEGORIES:Menu
END:VEVENT
BEGIN:VEVENT
DTSTART;TZID=Europe/Zurich:20250630T080000
DTEND;TZID=Europe/Zurich:20250704T143000
DTSTAMP:20260423T221212
CREATED:20250627T124041Z
LAST-MODIFIED:20250627T124041Z
UID:3238-1751270400-1751639400@pizzeria-neuchatel.ch
SUMMARY:Menus de la semaine 27
DESCRIPTION:LUNDI 30.06 \nNo 1 Salade verte ou 2 boules de glace \nLinguine alla Norma (s. tomate\, aubergines\, copeaux de parmesan) \nNo 2 Salade verte ou 2 boules de glace \nTonnato de dinde (FR)\, pommes frites \n  \nMARDI 01.07 \nNo 1 Salade verte ou 2 boules de glace \nRavioli farci au mascarpone et épinards (crème) \nNo 2 Salade verte ou 2 boules de glace \nEntrecôte parisienne (CH) sauce au poivre vert\nPommes soufflées\, haricots verts \n  \nMERCREDI 02.07 \nNo 1 Salade verte ou 2 boules de glace \nCasarecce butterfly (courgettes\, tomates fraîches\, basilic) \nNo 2 Salade verte ou 2 boules de glace \nScaloppine de porc (CH) à la crème\, tagliatelle au beurre \n  \nJEUDI 03.07 \nNo 1 Salade verte ou 2 boules de glace \nOrecchiette alla barese (crème\, brocoli\, lard) \nNo 2 Salade verte ou 2 boules de glace \nRagoût de boeuf (PAR) au paprika\,\nMousseline de pommes de terre \n  \nVENDREDI 04.07 \nNo 1 Salade verte ou 2 boules de glace \nFusilli alle vongole (s. tomate\, oignon\, vongole) \nNo 2 Salade verte ou 2 boules de glace \nFilet de saumon (NOR) sauce hollandaise\nRiz aux petits pois
URL:https://pizzeria-neuchatel.ch/event/menus-de-la-semaine-27-2/
CATEGORIES:Menu
END:VEVENT
END:VCALENDAR