BEGIN:VCALENDAR
VERSION:2.0
PRODID:-//La Fleur-de-Lys - Restaurant et Pizzeria à Neuchâtel - ECPv6.15.20//NONSGML v1.0//EN
CALSCALE:GREGORIAN
METHOD:PUBLISH
X-WR-CALNAME:La Fleur-de-Lys - Restaurant et Pizzeria à Neuchâtel
X-ORIGINAL-URL:https://pizzeria-neuchatel.ch
X-WR-CALDESC:Évènements pour La Fleur-de-Lys - Restaurant et Pizzeria à Neuchâtel
REFRESH-INTERVAL;VALUE=DURATION:PT1H
X-Robots-Tag:noindex
X-PUBLISHED-TTL:PT1H
BEGIN:VTIMEZONE
TZID:Europe/Zurich
BEGIN:DAYLIGHT
TZOFFSETFROM:+0100
TZOFFSETTO:+0200
TZNAME:CEST
DTSTART:20240331T010000
END:DAYLIGHT
BEGIN:STANDARD
TZOFFSETFROM:+0200
TZOFFSETTO:+0100
TZNAME:CET
DTSTART:20241027T010000
END:STANDARD
BEGIN:DAYLIGHT
TZOFFSETFROM:+0100
TZOFFSETTO:+0200
TZNAME:CEST
DTSTART:20250330T010000
END:DAYLIGHT
BEGIN:STANDARD
TZOFFSETFROM:+0200
TZOFFSETTO:+0100
TZNAME:CET
DTSTART:20251026T010000
END:STANDARD
BEGIN:DAYLIGHT
TZOFFSETFROM:+0100
TZOFFSETTO:+0200
TZNAME:CEST
DTSTART:20260329T010000
END:DAYLIGHT
BEGIN:STANDARD
TZOFFSETFROM:+0200
TZOFFSETTO:+0100
TZNAME:CET
DTSTART:20261025T010000
END:STANDARD
END:VTIMEZONE
BEGIN:VEVENT
DTSTART;TZID=Europe/Zurich:20250901T080000
DTEND;TZID=Europe/Zurich:20250905T143000
DTSTAMP:20260423T153943
CREATED:20250901T062003Z
LAST-MODIFIED:20250901T062003Z
UID:3526-1756713600-1757082600@pizzeria-neuchatel.ch
SUMMARY:Menus de la semaine 36
DESCRIPTION:LUNDI 01.09 \nNo 1 Salade verte ou 2 boules de glace \nOrecchiette alla barese (crème\, brocoli\, lard) \n  \nNo 2 Salade verte ou 2 boules de glace \nEmincé de veau (CH) à la crème\, pommes mousseline \n  \nMARDI 02.09 \nNo 1 Salade verte ou 2 boules de glace \nPenne alla petroniana (crème\, bolognaise) \n  \nNo 2 Salade verte ou 2 boules de glace \nSteak vigneron (EU) sauce poivre vert\, pommes frites \n  \nMERCREDI 03.09 \nNo 1 Salade verte ou 2 boules de glace \nCannelloni farci ricotta et épinards\, (s. tomate\, béchamel) \n  \nNo 2 Salade verte ou 2 boules de glace \nSaltimbocca de porc (CH) alla romana\, pâtes aux beurre \n  \nJEUDI 04.09 \nNo 1 Salade verte ou 2 boules de glace \nSpaghetti all’amalfitana (s. tomate\, ricotta\, basilic) \n  \nNo 2 Salade verte ou 2 boules de glace \nTranche de poulet (PL) grillé\, sauce forestière\nPomme rissolées\, légumes \n  \nVENDREDI 05.09 \nNo 1 Salade verte ou 2 boules de glace \nCasarecce alle vongole\n(s. tomate\, oignon\, ail\, vongole) \n  \nNo 2 Salade verte ou 2 boules de glace \nFilet de saumon (NOR) sauce hollandaise\nRiz aux petits légumes
URL:https://pizzeria-neuchatel.ch/event/menus-de-la-semaine-36-2/
CATEGORIES:Menu
END:VEVENT
BEGIN:VEVENT
DTSTART;TZID=Europe/Zurich:20250908T080000
DTEND;TZID=Europe/Zurich:20250912T143000
DTSTAMP:20260423T153943
CREATED:20250905T144755Z
LAST-MODIFIED:20250905T144755Z
UID:3540-1757318400-1757687400@pizzeria-neuchatel.ch
SUMMARY:Menus de la semaine 37
DESCRIPTION:LUNDI 08.09 \nNo 1 Salade verte ou 2 boules de glace \nPenne al pesto  \n  \nNo 2 Salade verte ou 2 boules de glace \nSteak de cheval (URU) sauce poivre vert\, linguine au beurre \n  \nMARDI 09.09 \nNo 1 Salade verte ou 2 boules de glace \nFarfalle aux bolets (crème) \n  \nNo 2 Salade verte ou 2 boules de glace \nRoastbeef (CH) sauce tartare\, pommes frites \n  \nMERCREDI 10.09 \nNo 1 Salade verte ou 2 boules de glace \nSpaghetti à l’italienne (s. tomate\, crème\, basilic) \n  \nNo 2 Salade verte ou 2 boules de glace \nEmincé de poulet (CH) au curry\, riz  \n  \nJEUDI 11.09 \nNo 1 Salade verte ou 2 boules de glace \nTortellini farci ricotta et épinards (crème) \n  \nNo 2 Salade verte ou 2 boules de glace \nCôtelette de porc (CH) sauce à la moutarde\nPommes soufflées\, tomate au four \n  \nVENDREDI 12.09 \nNo 1 Salade verte ou 2 boules de glace \nTagliatelle aux crevettes et asperges (crème) \n  \nNo 2 Salade verte ou 2 boules de glace \nFilet de dorade (TUR) aux légumes\, riz
URL:https://pizzeria-neuchatel.ch/event/menus-de-la-semaine-37-2/
CATEGORIES:Menu
END:VEVENT
BEGIN:VEVENT
DTSTART;TZID=Europe/Zurich:20250915T080000
DTEND;TZID=Europe/Zurich:20250919T143000
DTSTAMP:20260423T153943
CREATED:20250914T154423Z
LAST-MODIFIED:20250914T154458Z
UID:3576-1757923200-1758292200@pizzeria-neuchatel.ch
SUMMARY:Menus de la semaine 38
DESCRIPTION:LUNDI 15.09 \nNo 1 Salade verte ou 2 boules de glace \nRigatoni alla Petroniana (bolognaise\, crème) \n  \nNo 2 Salade verte ou 2 boules de glace \nCordon bleu de porc (CH)\, pommes frites \n  \nMARDI 16.09 \nNo 1 Salade verte ou 2 boules de glace \nOrecchiette alla diavola (s. tomate\, poivrons\, olives\, piment) \n  \nNo 2 Salade verte ou 2 boules de glace \nSteak vigneron de boeuf (CH) sauce au marsala\nTagliatelle au beurre \nMERCREDI 17.09 \nNo 1 Salade verte ou 2 boules de glace \nGnocchi al gorgonzola (crème) \n  \nNo 2 Salade verte ou 2 boules de glace \nPiccata de poulet (POL)\, spaghetti sauce tomate \n  \nJEUDI 18.09 \nNo 1 Salade verte ou 2 boules de glace \nPenne alla caprese (mozzarella\, tomates fraîches\, basilic) \n  \nNo 2 Salade verte ou 2 boules de glace \nBrochette de bœuf (PAR) sauce au poivre\, pommes carrées  \n  \nVENDREDI 19.09 \nNo 1 Salade verte ou 2 boules de glace \nFusilli aux fruits de mer  \n  \nNo 2 Salade verte ou 2 boules de glace \nFilets de perche (EU) à la meunière \nPommes vapeur
URL:https://pizzeria-neuchatel.ch/event/menu-de-la-semaine-38/
CATEGORIES:Menu
END:VEVENT
BEGIN:VEVENT
DTSTART;TZID=Europe/Zurich:20250922T080000
DTEND;TZID=Europe/Zurich:20250926T143000
DTSTAMP:20260423T153943
CREATED:20250922T131340Z
LAST-MODIFIED:20250922T131340Z
UID:3604-1758528000-1758897000@pizzeria-neuchatel.ch
SUMMARY:Menus de la semaine 39
DESCRIPTION:LUNDI 22.09 \n Férié\, à la carte \nMARDI 23.09 \nNo 1 Salade verte ou 2 boules de glace \nCannelloni ricotta et épinards \n  \nNo 2 Salade verte ou 2 boules de glace \nEscalope panée de porc (CH)\, frites \n  \nMERCREDI 24.09 \nNo 1 Salade verte ou 2 boules de glace \nPenne alla carbonara (jambon\, crème\, oeuf) \n  \nNo 2 Salade verte ou 2 boules de glace \nOssobuco de porc (CH)\, risotto au safran \n  \nJEUDI 25.09 \nNo 1 Salade verte ou 2 boules de glace \nRavioli farci au mascarpone et épinards (crème) \n  \nNo 2 Salade verte ou 2 boules de glace \nFilet de poulet (POL) aux légumes\, frites \n  \nVENDREDI 26.09 \nNo 1 Salade verte ou 2 boules de glace \nOrecchiette alle vongole (s. tomate\, vongole) \n  \nNo 2 Salade verte ou 2 boules de glace \nPizza Capricciosa (jambon\, champignons)
URL:https://pizzeria-neuchatel.ch/event/menus-de-la-semaine-39-2/
CATEGORIES:Menu
END:VEVENT
BEGIN:VEVENT
DTSTART;TZID=Europe/Zurich:20250929T080000
DTEND;TZID=Europe/Zurich:20251003T143000
DTSTAMP:20260423T153943
CREATED:20250929T084531Z
LAST-MODIFIED:20250929T084531Z
UID:3635-1759132800-1759501800@pizzeria-neuchatel.ch
SUMMARY:Menus de la semaine No 40
DESCRIPTION:LUNDI 29.09 \nNo 1 Salade verte ou 2 boules de glace \nPenne al pesto  \n  \nNo 2 Salade verte ou 2 boules de glace \nEmincé de poulet (POL) au curry\, riz \n  \nMARDI 30.09 \nNo 1 Salade verte ou 2 boules de glace \nFusilli au gorgonzola (crème) \n  \nNo 2 Salade verte ou 2 boules de glace \nRôti de veau (CH) sauce aux herbes\, pommes mousseline \n  \nMERCREDI 01.10 \nNo 1 Salade verte ou 2 boules de glace \nFarfalle fantasia (petits pois\, courgettes\, poivrons\, crème) \n  \nNo 2 Salade verte ou 2 boules de glace \nEntrecôte parisienne (CH) sauce poivre vert\, pommes frites \n  \nJEUDI 02.10 \nNo 1 Salade verte ou 2 boules de glace \nLinguine sciue sciue (tomates fraîches\, basilic\, ail) \n  \nNo 2 Salade verte ou 2 boules de glace \nEscalope de porc (CH) sauce à la crème\nPâtes au beurre \n  \nVENDREDI 03.10 \nNo 1 Salade verte ou 2 boules de glace \nCasarecce aux crevettes (s. tomate\, ail\, oignon) \n  \nNo 2 Salade verte ou 2 boules de glace \nPavé de saumon (FAO 27) sauce hollandaise\nPommes nature
URL:https://pizzeria-neuchatel.ch/event/menus-de-la-semaine-no-40/
CATEGORIES:Menu
END:VEVENT
END:VCALENDAR