BEGIN:VCALENDAR
VERSION:2.0
PRODID:-//La Fleur-de-Lys - Restaurant et Pizzeria à Neuchâtel - ECPv6.15.20//NONSGML v1.0//EN
CALSCALE:GREGORIAN
METHOD:PUBLISH
X-ORIGINAL-URL:https://pizzeria-neuchatel.ch
X-WR-CALDESC:Évènements pour La Fleur-de-Lys - Restaurant et Pizzeria à Neuchâtel
REFRESH-INTERVAL;VALUE=DURATION:PT1H
X-Robots-Tag:noindex
X-PUBLISHED-TTL:PT1H
BEGIN:VTIMEZONE
TZID:Europe/Zurich
BEGIN:DAYLIGHT
TZOFFSETFROM:+0100
TZOFFSETTO:+0200
TZNAME:CEST
DTSTART:20230326T010000
END:DAYLIGHT
BEGIN:STANDARD
TZOFFSETFROM:+0200
TZOFFSETTO:+0100
TZNAME:CET
DTSTART:20231029T010000
END:STANDARD
BEGIN:DAYLIGHT
TZOFFSETFROM:+0100
TZOFFSETTO:+0200
TZNAME:CEST
DTSTART:20240331T010000
END:DAYLIGHT
BEGIN:STANDARD
TZOFFSETFROM:+0200
TZOFFSETTO:+0100
TZNAME:CET
DTSTART:20241027T010000
END:STANDARD
BEGIN:DAYLIGHT
TZOFFSETFROM:+0100
TZOFFSETTO:+0200
TZNAME:CEST
DTSTART:20250330T010000
END:DAYLIGHT
BEGIN:STANDARD
TZOFFSETFROM:+0200
TZOFFSETTO:+0100
TZNAME:CET
DTSTART:20251026T010000
END:STANDARD
END:VTIMEZONE
BEGIN:VEVENT
DTSTART;TZID=Europe/Zurich:20240930T080000
DTEND;TZID=Europe/Zurich:20241004T143000
DTSTAMP:20260426T055234
CREATED:20240930T082319Z
LAST-MODIFIED:20240930T082319Z
UID:2146-1727683200-1728052200@pizzeria-neuchatel.ch
SUMMARY:Menus de la semaine 40
DESCRIPTION:LUNDI 30.09 \nNo 1 Salade verte ou potage aux légumes \nRigatoni all’arrabbiata (s. tomate\, oignon\, lard\, piment) \n  \nNo 2 Salade verte ou potage aux légumes \nEscalope panée de porc (CH)\, tagliatelle al pomodoro \n  \nMARDI 01.10 \nNo 1 Salade verte ou crème de potiron \nTortellini ricotta et épinards (crème) \n  \nNo 2 Salade verte ou crème de potiron \nSteak vigneron (CH) sauce poivre rose\, pommes carrées\, tomate au four \n  \nMERCREDI 02.10 \nNo 1 Salade verte ou crème de bolets \nPenne alla bolognaise \n  \nNo 2 Salade verte ou crème de bolets \nEmincé de veau (CH) à la crème\, riz aux petits légumes \n  \nJEUDI 03.10 \nNo 1 Salade verte ou consommé de bœuf avec croutons \nOrecchiette primavera (petits pois\, poivrons\, jambon\, crème) \n  \nNo 2 Salade verte ou consommé de bœuf avec croutons \nBrochette de bœuf et cheval (PAR) sauce aux poivrons\nCarottes glacées\, pommes de terre au four \n  \nVENDREDI 04.10 \nNo 1 Salade verte ou potage aux petits pois \nSpaghetti alle vongole (s. tomate\, vongole\, oignon\, ail) \n  \nNo 2 Salade verte ou potage aux petits pois \nFilets de perche (RUS) meunière\, pommes persillées
URL:https://pizzeria-neuchatel.ch/event/menus-de-la-semaine-40/
CATEGORIES:Menu
END:VEVENT
END:VCALENDAR