BEGIN:VCALENDAR
VERSION:2.0
PRODID:-//La Fleur-de-Lys - Restaurant et Pizzeria à Neuchâtel - ECPv6.15.20//NONSGML v1.0//EN
CALSCALE:GREGORIAN
METHOD:PUBLISH
X-ORIGINAL-URL:https://pizzeria-neuchatel.ch
X-WR-CALDESC:Évènements pour La Fleur-de-Lys - Restaurant et Pizzeria à Neuchâtel
REFRESH-INTERVAL;VALUE=DURATION:PT1H
X-Robots-Tag:noindex
X-PUBLISHED-TTL:PT1H
BEGIN:VTIMEZONE
TZID:Europe/Zurich
BEGIN:DAYLIGHT
TZOFFSETFROM:+0100
TZOFFSETTO:+0200
TZNAME:CEST
DTSTART:20230326T010000
END:DAYLIGHT
BEGIN:STANDARD
TZOFFSETFROM:+0200
TZOFFSETTO:+0100
TZNAME:CET
DTSTART:20231029T010000
END:STANDARD
BEGIN:DAYLIGHT
TZOFFSETFROM:+0100
TZOFFSETTO:+0200
TZNAME:CEST
DTSTART:20240331T010000
END:DAYLIGHT
BEGIN:STANDARD
TZOFFSETFROM:+0200
TZOFFSETTO:+0100
TZNAME:CET
DTSTART:20241027T010000
END:STANDARD
BEGIN:DAYLIGHT
TZOFFSETFROM:+0100
TZOFFSETTO:+0200
TZNAME:CEST
DTSTART:20250330T010000
END:DAYLIGHT
BEGIN:STANDARD
TZOFFSETFROM:+0200
TZOFFSETTO:+0100
TZNAME:CET
DTSTART:20251026T010000
END:STANDARD
END:VTIMEZONE
BEGIN:VEVENT
DTSTART;TZID=Europe/Zurich:20241007T080000
DTEND;TZID=Europe/Zurich:20241011T140000
DTSTAMP:20260426T055424
CREATED:20241004T123004Z
LAST-MODIFIED:20241004T123004Z
UID:2167-1728288000-1728655200@pizzeria-neuchatel.ch
SUMMARY:Menus de la semaine 41
DESCRIPTION:LUNDI 07.10 \nNo 1 Salade verte ou crème de volaille \nConchiglie alla diavola (s. tomate\, salami piquant\, gorgonzola) \n  \nNo 2 Salade verte ou crème de volaille \nJambon paysan (CH)\, sauce marsala\, pommes croquettes\, brocoli sauté \n  \nMARDI 08.10 \nNo 1 Salade verte ou potage paysan \nCannelloni ricotta et épinards (s. tomate\, béchamel)  \n  \nNo 2 Salade verte ou potage paysan \nRagoût de bœuf (CH) au paprika\, riz pilaf \n  \nMERCREDI 09.10 \nNo 1 Salade verte ou crème d’asperge verte \nRavioli de cerf sauce  à la crème \n  \nNo 2 Salade verte ou crème d’asperge verte \nOsso buco de veau (CH) alla milanese\, polenta \n  \nJEUDI 10.10 \nNo 1 Salade verte ou minestrone \nLinguine alla norma (s. tomate\, aubergines\, écailles de parmesan) \n  \nNo 2 Salade verte ou minestrone \nRôti Neuchâtelois (CH) avec son jus\, pommes mousseline\, légumes \n  \nVENDREDI 11.10 \nNo 1 Salade verte ou crème de livèche \nFarfalle au saumon fumé (crème\, aneth\, oignon) \n  \nNo 2 Salade verte ou crème de livèche \nCrevettes au safran\, tagliatelle au beurre
URL:https://pizzeria-neuchatel.ch/event/menus-de-la-semaine-41/
CATEGORIES:Menu
END:VEVENT
END:VCALENDAR