BEGIN:VCALENDAR
VERSION:2.0
PRODID:-//La Fleur-de-Lys - Restaurant et Pizzeria à Neuchâtel - ECPv6.15.20//NONSGML v1.0//EN
CALSCALE:GREGORIAN
METHOD:PUBLISH
X-ORIGINAL-URL:https://pizzeria-neuchatel.ch
X-WR-CALDESC:Évènements pour La Fleur-de-Lys - Restaurant et Pizzeria à Neuchâtel
REFRESH-INTERVAL;VALUE=DURATION:PT1H
X-Robots-Tag:noindex
X-PUBLISHED-TTL:PT1H
BEGIN:VTIMEZONE
TZID:Europe/Zurich
BEGIN:DAYLIGHT
TZOFFSETFROM:+0100
TZOFFSETTO:+0200
TZNAME:CEST
DTSTART:20230326T010000
END:DAYLIGHT
BEGIN:STANDARD
TZOFFSETFROM:+0200
TZOFFSETTO:+0100
TZNAME:CET
DTSTART:20231029T010000
END:STANDARD
BEGIN:DAYLIGHT
TZOFFSETFROM:+0100
TZOFFSETTO:+0200
TZNAME:CEST
DTSTART:20240331T010000
END:DAYLIGHT
BEGIN:STANDARD
TZOFFSETFROM:+0200
TZOFFSETTO:+0100
TZNAME:CET
DTSTART:20241027T010000
END:STANDARD
BEGIN:DAYLIGHT
TZOFFSETFROM:+0100
TZOFFSETTO:+0200
TZNAME:CEST
DTSTART:20250330T010000
END:DAYLIGHT
BEGIN:STANDARD
TZOFFSETFROM:+0200
TZOFFSETTO:+0100
TZNAME:CET
DTSTART:20251026T010000
END:STANDARD
END:VTIMEZONE
BEGIN:VEVENT
DTSTART;TZID=Europe/Zurich:20241014T080000
DTEND;TZID=Europe/Zurich:20241018T143000
DTSTAMP:20260426T055352
CREATED:20241011T133540Z
LAST-MODIFIED:20241011T133540Z
UID:2192-1728892800-1729261800@pizzeria-neuchatel.ch
SUMMARY:Menus de la semaine42
DESCRIPTION:LUNDI 14.10 \nNo 1 Salade verte ou potage à l’orge des Grisons \nCasarecce alla petroniana (bolognaise et crème) \n  \nNo 2 Salade verte ou l’orge des Grisons \nCordon bleu de porc (CH)\, spaghetti al pomodoro \n  \nMARDI 15.10 \nNo 1 Salade verte ou crème de potiron \nPenne tzigane ( jambon cru\, asperge\, crème) \n  \nNo 2 Salade verte ou crème de potiron \nSteak de cheval (AR) sauce poivre vert\, pommes carrées\, tomate au four \n  \nMERCREDI 16.10 \nNo 1 Salade verte ou potage crème et tomate \nSpaghetti alla puttanesca (anchois\, olives\, câpres\, s. tomate) \n  \nNo 2 Salade verte ou potage crème et tomate \nSaltimbocca alla romana (CH)\, riz aux petits pois \n  \nJEUDI 17.10 \nNo 1 Salade verte ou crème de bolets \nAgnolotti à la courge (crème) \n  \nNo 2 Salade verte ou crème de bolets \nRôti de veau (CH) aux herbes\, rösti galette\, légumes \n  \nVENDREDI 18.10 \nNo 1 Salade verte ou potage printanier \nRisotto aux fruits de mer \n  \nNo 2 Salade verte ou potager printanier \nFilets de perche meunière (RUS) pommes vapeur
URL:https://pizzeria-neuchatel.ch/event/menus-de-la-semaine42/
CATEGORIES:Menu
END:VEVENT
END:VCALENDAR