BEGIN:VCALENDAR
VERSION:2.0
PRODID:-//La Fleur-de-Lys - Restaurant et Pizzeria à Neuchâtel - ECPv6.15.20//NONSGML v1.0//EN
CALSCALE:GREGORIAN
METHOD:PUBLISH
X-WR-CALNAME:La Fleur-de-Lys - Restaurant et Pizzeria à Neuchâtel
X-ORIGINAL-URL:https://pizzeria-neuchatel.ch
X-WR-CALDESC:Évènements pour La Fleur-de-Lys - Restaurant et Pizzeria à Neuchâtel
REFRESH-INTERVAL;VALUE=DURATION:PT1H
X-Robots-Tag:noindex
X-PUBLISHED-TTL:PT1H
BEGIN:VTIMEZONE
TZID:Europe/Zurich
BEGIN:DAYLIGHT
TZOFFSETFROM:+0100
TZOFFSETTO:+0200
TZNAME:CEST
DTSTART:20230326T010000
END:DAYLIGHT
BEGIN:STANDARD
TZOFFSETFROM:+0200
TZOFFSETTO:+0100
TZNAME:CET
DTSTART:20231029T010000
END:STANDARD
BEGIN:DAYLIGHT
TZOFFSETFROM:+0100
TZOFFSETTO:+0200
TZNAME:CEST
DTSTART:20240331T010000
END:DAYLIGHT
BEGIN:STANDARD
TZOFFSETFROM:+0200
TZOFFSETTO:+0100
TZNAME:CET
DTSTART:20241027T010000
END:STANDARD
BEGIN:DAYLIGHT
TZOFFSETFROM:+0100
TZOFFSETTO:+0200
TZNAME:CEST
DTSTART:20250330T010000
END:DAYLIGHT
BEGIN:STANDARD
TZOFFSETFROM:+0200
TZOFFSETTO:+0100
TZNAME:CET
DTSTART:20251026T010000
END:STANDARD
END:VTIMEZONE
BEGIN:VEVENT
DTSTART;TZID=Europe/Zurich:20241021T080000
DTEND;TZID=Europe/Zurich:20241025T143000
DTSTAMP:20260426T055125
CREATED:20241018T134749Z
LAST-MODIFIED:20241018T134749Z
UID:2210-1729497600-1729866600@pizzeria-neuchatel.ch
SUMMARY:Menus de la semaine 43
DESCRIPTION:LUNDI 21.10 \nNo 1 Salade verte ou crème de volaille \nFusilli al pesto (crème) \n  \nNo 2 Salade verte ou crème de volaille \nRôti de porc (CH) aux pruneaux\, spätzlis\, choux-de-Bruxelles \n  \nMARDI 22.10 \nNo 1 Salade verte ou potage aux légumes \nRigatoni campagnard (s. tomate\, lard\, champignons) \n  \nNo 2 Salade verte ou potage aux légumes \nEmincé de poulet (CH) au curry\, riz créole \n  \nMERCREDI 23.10 \nNo 1 Salade verte ou crème d’asperge  \nTortellini ricotta et épinards (s. tomate\, crème) \n  \nNo 2 Salade verte ou crème d’asperge  \nScaloppine de porc à la crème (CH)\, tagliatelle au beurre \n  \nJEUDI 24.10 \nNo 1 Salade verte ou potage aux pois verts \nGnocchi al gorgonzola (gorgonzola\, crème) \n  \nNo 2 Salade verte ou potage aux pois verts \nRagoût de cerf (EU) aux airelles\, pommes de terre au four\nHaricots verts \n  \nVENDREDI 25.10 \nNo 1 Salade verte ou crème de chou-fleur et carotte \nFarfalle alla palermitana (s. tomate\, câpres\, thon) \n  \nNo 2 Salade verte ou crème de chou-fleur et carotte \nFilet de dorade (TUR) sauce tomate fraiche et basilic\nJardinière de légumes
URL:https://pizzeria-neuchatel.ch/event/menus-de-la-semaine-43/
CATEGORIES:Menu
END:VEVENT
END:VCALENDAR