BEGIN:VCALENDAR
VERSION:2.0
PRODID:-//La Fleur-de-Lys - Restaurant et Pizzeria à Neuchâtel - ECPv6.15.20//NONSGML v1.0//EN
CALSCALE:GREGORIAN
METHOD:PUBLISH
X-ORIGINAL-URL:https://pizzeria-neuchatel.ch
X-WR-CALDESC:Évènements pour La Fleur-de-Lys - Restaurant et Pizzeria à Neuchâtel
REFRESH-INTERVAL;VALUE=DURATION:PT1H
X-Robots-Tag:noindex
X-PUBLISHED-TTL:PT1H
BEGIN:VTIMEZONE
TZID:Europe/Zurich
BEGIN:DAYLIGHT
TZOFFSETFROM:+0100
TZOFFSETTO:+0200
TZNAME:CEST
DTSTART:20230326T010000
END:DAYLIGHT
BEGIN:STANDARD
TZOFFSETFROM:+0200
TZOFFSETTO:+0100
TZNAME:CET
DTSTART:20231029T010000
END:STANDARD
BEGIN:DAYLIGHT
TZOFFSETFROM:+0100
TZOFFSETTO:+0200
TZNAME:CEST
DTSTART:20240331T010000
END:DAYLIGHT
BEGIN:STANDARD
TZOFFSETFROM:+0200
TZOFFSETTO:+0100
TZNAME:CET
DTSTART:20241027T010000
END:STANDARD
BEGIN:DAYLIGHT
TZOFFSETFROM:+0100
TZOFFSETTO:+0200
TZNAME:CEST
DTSTART:20250330T010000
END:DAYLIGHT
BEGIN:STANDARD
TZOFFSETFROM:+0200
TZOFFSETTO:+0100
TZNAME:CET
DTSTART:20251026T010000
END:STANDARD
END:VTIMEZONE
BEGIN:VEVENT
DTSTART;TZID=Europe/Zurich:20241028T080000
DTEND;TZID=Europe/Zurich:20241101T143000
DTSTAMP:20260426T055214
CREATED:20241025T123225Z
LAST-MODIFIED:20241025T123225Z
UID:2244-1730102400-1730471400@pizzeria-neuchatel.ch
SUMMARY:Menus de la semaine 44
DESCRIPTION:LUNDI 28.10 \nNo 1 Salade verte ou potage paysan \nLinguine all’amalfitana (s. tomate\, ricotta\, basilic) \n  \nNo 2 Salade verte ou potage paysan \nEmincé de bœuf (PAR) stroganoff (cornichons\, poivrons\, olives)\nPommes croquettes\, carottes \n  \nMARDI 29.10 \nNo 1 Salade verte ou consommé de bœuf et petits pois \nRavioli de cerf (crème\, airelles\, cognac) \nNo 2 Salade verte ou consommé de bœuf et petit pois \nEscalope panée de porc (CH) spaghetti al pomodoro \n  \nMERCREDI 30.10 \nNo 1 Salade verte ou potage bernois \nPenne alla vesuviana (s.tomate\, salami piquant\, gorgonzola) \n  \nNo 2 Salade verte ou potage bernois \nSteak vigneron (CH) sauce au vin rouge\, tomate au four\, pommes carrées \n  \nJEUDI 31.10 \nNo 1 Salade verte ou crème de courge \nConchiglie Belle Epoque (champignons\, lard\, crème) \n  \nNo 2 Salade verte ou crème de courge \nEntrecôte de sanglier (EU) sauce aux chanterelles\, pâtes au beurre \n  \nVENDREDI 01.11 \nNo 1 Salade verte ou minestrone \nGnocchetti Corallo Verde (épinards\, crevettes\, crème) \n  \nNo 2 Salade verte ou minestrone \nFilet de loup de mer (TUR) sauce estragon\, riz pilaf
URL:https://pizzeria-neuchatel.ch/event/menus-de-la-semaine-44/
CATEGORIES:Menu
END:VEVENT
END:VCALENDAR