BEGIN:VCALENDAR
VERSION:2.0
PRODID:-//La Fleur-de-Lys - Restaurant et Pizzeria à Neuchâtel - ECPv6.15.20//NONSGML v1.0//EN
CALSCALE:GREGORIAN
METHOD:PUBLISH
X-ORIGINAL-URL:https://pizzeria-neuchatel.ch
X-WR-CALDESC:Évènements pour La Fleur-de-Lys - Restaurant et Pizzeria à Neuchâtel
REFRESH-INTERVAL;VALUE=DURATION:PT1H
X-Robots-Tag:noindex
X-PUBLISHED-TTL:PT1H
BEGIN:VTIMEZONE
TZID:Europe/Zurich
BEGIN:DAYLIGHT
TZOFFSETFROM:+0100
TZOFFSETTO:+0200
TZNAME:CEST
DTSTART:20230326T010000
END:DAYLIGHT
BEGIN:STANDARD
TZOFFSETFROM:+0200
TZOFFSETTO:+0100
TZNAME:CET
DTSTART:20231029T010000
END:STANDARD
BEGIN:DAYLIGHT
TZOFFSETFROM:+0100
TZOFFSETTO:+0200
TZNAME:CEST
DTSTART:20240331T010000
END:DAYLIGHT
BEGIN:STANDARD
TZOFFSETFROM:+0200
TZOFFSETTO:+0100
TZNAME:CET
DTSTART:20241027T010000
END:STANDARD
BEGIN:DAYLIGHT
TZOFFSETFROM:+0100
TZOFFSETTO:+0200
TZNAME:CEST
DTSTART:20250330T010000
END:DAYLIGHT
BEGIN:STANDARD
TZOFFSETFROM:+0200
TZOFFSETTO:+0100
TZNAME:CET
DTSTART:20251026T010000
END:STANDARD
END:VTIMEZONE
BEGIN:VEVENT
DTSTART;TZID=Europe/Zurich:20241111T080000
DTEND;TZID=Europe/Zurich:20241115T143000
DTSTAMP:20260425T010253
CREATED:20241108T132207Z
LAST-MODIFIED:20241108T132207Z
UID:2298-1731312000-1731681000@pizzeria-neuchatel.ch
SUMMARY:Menus de la semaine 46
DESCRIPTION:LUNDI 11.11 \nNo 1 Salade verte ou potage aux légumes \nTortelloni 4 frommage (crème) \n  \nNo 2 Salade verte ou potage aux légumes \nRôti de veau (CH) aux herbes\, tagliatelle au beurre \n  \nMARDI 12.11 \nNo 1 Salade verte ou crème de volaille \nFusilli all’italienne ( crème\, tomate\, basilic\, parmesan) \n  \nNo 2 Salade verte ou crème de volaille \nEntrecôte de cerf (ES) sauce airelles et cognac\nChoux de Bruxelles\, spätzlis\, poire \n  \nMERCREDI 13.11 \nNo 1 Salade verte ou potage printanier \nLinguine alla puttanesca (s. tomate\, olive\, câpres\, anchois) \n  \nNo 2 Salade verte ou potage printanier \nFilet de poulet (PL) aux champignons\, pommes frites \n  \nJEUDI 14.11 \nNo 1 Salade verte ou potage bernois aux pois jaune \nRigatoni all’ amatriciana (s. tomate\, ail\, pancetta\, piquant) \n  \nNo 2 Salade verte ou potage bernois aux pois jaune \nJambon paysan (CH) sauce marsala\, pommes de terre au four\, carottes glacées \n  \nVENDREDI 15.11 \nNo 1 Salade verte ou consommé de bœuf et croutons \nFarfalle au saumon fumé (crème\, saumon\, oignon\, aneth) \n  \n No 2 Salade verte ou consommé de bœuf et croutons \nFilet d’omble chevalier (IS) sauce hollandaise\, riz pilaf
URL:https://pizzeria-neuchatel.ch/event/menus-de-la-semaine-46-2/
CATEGORIES:Menu
END:VEVENT
END:VCALENDAR