BEGIN:VCALENDAR
VERSION:2.0
PRODID:-//La Fleur-de-Lys - Restaurant et Pizzeria à Neuchâtel - ECPv6.15.20//NONSGML v1.0//EN
CALSCALE:GREGORIAN
METHOD:PUBLISH
X-ORIGINAL-URL:https://pizzeria-neuchatel.ch
X-WR-CALDESC:Évènements pour La Fleur-de-Lys - Restaurant et Pizzeria à Neuchâtel
REFRESH-INTERVAL;VALUE=DURATION:PT1H
X-Robots-Tag:noindex
X-PUBLISHED-TTL:PT1H
BEGIN:VTIMEZONE
TZID:Europe/Zurich
BEGIN:DAYLIGHT
TZOFFSETFROM:+0100
TZOFFSETTO:+0200
TZNAME:CEST
DTSTART:20230326T010000
END:DAYLIGHT
BEGIN:STANDARD
TZOFFSETFROM:+0200
TZOFFSETTO:+0100
TZNAME:CET
DTSTART:20231029T010000
END:STANDARD
BEGIN:DAYLIGHT
TZOFFSETFROM:+0100
TZOFFSETTO:+0200
TZNAME:CEST
DTSTART:20240331T010000
END:DAYLIGHT
BEGIN:STANDARD
TZOFFSETFROM:+0200
TZOFFSETTO:+0100
TZNAME:CET
DTSTART:20241027T010000
END:STANDARD
BEGIN:DAYLIGHT
TZOFFSETFROM:+0100
TZOFFSETTO:+0200
TZNAME:CEST
DTSTART:20250330T010000
END:DAYLIGHT
BEGIN:STANDARD
TZOFFSETFROM:+0200
TZOFFSETTO:+0100
TZNAME:CET
DTSTART:20251026T010000
END:STANDARD
END:VTIMEZONE
BEGIN:VEVENT
DTSTART;TZID=Europe/Zurich:20241125T080000
DTEND;TZID=Europe/Zurich:20241129T143000
DTSTAMP:20260424T111331
CREATED:20241122T133211Z
LAST-MODIFIED:20241122T133211Z
UID:2364-1732521600-1732890600@pizzeria-neuchatel.ch
SUMMARY:Menus de la semaine 48
DESCRIPTION:LUNDI 25.11 \nNo 1 Salade verte ou potage aux légumes \nGnocchetti all’ortolana (s. tomate\, poivrons\, aubergines\, petits pois) \n  \nNo 2 Salade verte ou potage aux légumes \nSaltimbocca de porc (CH) alla romana\, tagliatelle au beurre \n  \nMARDI 26.11 \nNo 1 Salade verte ou crème d’avoine \nTortellini ricotta et épinards\, sauce aurora (crème\, tomate) \n  \nNo 2 Salade verte ou crème d’avoine \nCivet de chevreuil (EU) façon grand-mère\, spätzlis\, choux de Bruxelles \n  \nMERCREDI 27.11 \nNo 1 Salade verte ou potage à l’orge des Grisons \nOrecchiette alla pugliese (crème\, brocoli\, lard) \n  \nNo 2 Salade verte ou potage à l’orge des Grisons \nEmincé de poulet (PL) au curry\, riz créole \n  \nJEUDI 28.11 \nNo 1 Salade verte ou crème de bolets \nSpaghetti scué scué (ail\, tomates fraîches\, piment\, basilic) \n  \nNo 2 Salade verte ou crème de bolets \nSteak vigneron (CH) sauce au vin rouge\, pommes purées\, légumes \n  \nVENDREDI 29.11 \nNo 1 Salade verte ou crème d’asperges \nTagliolini verdi mare e monti (crème\, fruits de mer\, bolets) \n  \nNo 2 Salade verte ou crème d’asperges \nBrochettes de crevettes (TUR) sauce provençale\nPommes frites
URL:https://pizzeria-neuchatel.ch/event/menus-de-la-semaine-48-2/
CATEGORIES:Menu
END:VEVENT
END:VCALENDAR