BEGIN:VCALENDAR
VERSION:2.0
PRODID:-//La Fleur-de-Lys - Restaurant et Pizzeria à Neuchâtel - ECPv6.15.20//NONSGML v1.0//EN
CALSCALE:GREGORIAN
METHOD:PUBLISH
X-WR-CALNAME:La Fleur-de-Lys - Restaurant et Pizzeria à Neuchâtel
X-ORIGINAL-URL:https://pizzeria-neuchatel.ch
X-WR-CALDESC:Évènements pour La Fleur-de-Lys - Restaurant et Pizzeria à Neuchâtel
REFRESH-INTERVAL;VALUE=DURATION:PT1H
X-Robots-Tag:noindex
X-PUBLISHED-TTL:PT1H
BEGIN:VTIMEZONE
TZID:Europe/Zurich
BEGIN:DAYLIGHT
TZOFFSETFROM:+0100
TZOFFSETTO:+0200
TZNAME:CEST
DTSTART:20230326T010000
END:DAYLIGHT
BEGIN:STANDARD
TZOFFSETFROM:+0200
TZOFFSETTO:+0100
TZNAME:CET
DTSTART:20231029T010000
END:STANDARD
BEGIN:DAYLIGHT
TZOFFSETFROM:+0100
TZOFFSETTO:+0200
TZNAME:CEST
DTSTART:20240331T010000
END:DAYLIGHT
BEGIN:STANDARD
TZOFFSETFROM:+0200
TZOFFSETTO:+0100
TZNAME:CET
DTSTART:20241027T010000
END:STANDARD
BEGIN:DAYLIGHT
TZOFFSETFROM:+0100
TZOFFSETTO:+0200
TZNAME:CEST
DTSTART:20250330T010000
END:DAYLIGHT
BEGIN:STANDARD
TZOFFSETFROM:+0200
TZOFFSETTO:+0100
TZNAME:CET
DTSTART:20251026T010000
END:STANDARD
END:VTIMEZONE
BEGIN:VEVENT
DTSTART;TZID=Europe/Zurich:20241202T080000
DTEND;TZID=Europe/Zurich:20241206T143000
DTSTAMP:20260424T121756
CREATED:20241129T134545Z
LAST-MODIFIED:20241129T134545Z
UID:2397-1733126400-1733495400@pizzeria-neuchatel.ch
SUMMARY:Menus de la semaine 49
DESCRIPTION:LUNDI 02.12 \nNo 1 Salade verte ou crème de potiron \nPenne tzigane (jambon cru\, asperges\, crème) \n  \nNo 2 Salade verte ou crème de potiron \nRôti de porc (CH) aux pruneaux\,\nPommes de terre au four\, carottes glacées \n  \nMARDI 03.12 \nNo 1 Salade verte ou consommé de bœuf aux petits pois \nCasarecce alla petroniana (bolognaise\, crème) \n  \nNo 2 Salade verte ou consommé de bœuf aux petits pois \nRagoût de cerf (EU) aux airelles\, tagliatelle au beurre \n  \nMERCREDI 04.12 \nNo 1 Salade verte ou crème de tomate \nLinguine all’amalfitana (ricotta\, basilic\, s. tomate) \n  \nNo 2 Salade verte ou crème de tomate \nEntrecôte parisienne (CH) sauce béarnaise\,\nTomates au four\, pommes carrées \n  \nJEUDI 05.12 \nNo 1 Salade verte ou potage paysan \nFarfalle Belle Epoque (crème\, champignons\, jambon) \n  \nNo 2 Salade verte ou potage paysan \nPiccata milanaise de poulet (PL)\, spaghetti sauce tomate \n  \nVENDREDI 06.12 \nNo 1 Salade verte ou Crème de brocoli \nConchiglie aux crevettes (s. tomate\, oignon\, ail\, crevettes) \n  \nNo 2 Salade verte ou crème de brocoli \nFilets de perche (RU) meunière\, pommes vapeur
URL:https://pizzeria-neuchatel.ch/event/menus-de-la-semaine-49-2/
CATEGORIES:Menu
END:VEVENT
END:VCALENDAR