BEGIN:VCALENDAR
VERSION:2.0
PRODID:-//La Fleur-de-Lys - Restaurant et Pizzeria à Neuchâtel - ECPv6.15.20//NONSGML v1.0//EN
CALSCALE:GREGORIAN
METHOD:PUBLISH
X-ORIGINAL-URL:https://pizzeria-neuchatel.ch
X-WR-CALDESC:Évènements pour La Fleur-de-Lys - Restaurant et Pizzeria à Neuchâtel
REFRESH-INTERVAL;VALUE=DURATION:PT1H
X-Robots-Tag:noindex
X-PUBLISHED-TTL:PT1H
BEGIN:VTIMEZONE
TZID:Europe/Zurich
BEGIN:DAYLIGHT
TZOFFSETFROM:+0100
TZOFFSETTO:+0200
TZNAME:CEST
DTSTART:20230326T010000
END:DAYLIGHT
BEGIN:STANDARD
TZOFFSETFROM:+0200
TZOFFSETTO:+0100
TZNAME:CET
DTSTART:20231029T010000
END:STANDARD
BEGIN:DAYLIGHT
TZOFFSETFROM:+0100
TZOFFSETTO:+0200
TZNAME:CEST
DTSTART:20240331T010000
END:DAYLIGHT
BEGIN:STANDARD
TZOFFSETFROM:+0200
TZOFFSETTO:+0100
TZNAME:CET
DTSTART:20241027T010000
END:STANDARD
BEGIN:DAYLIGHT
TZOFFSETFROM:+0100
TZOFFSETTO:+0200
TZNAME:CEST
DTSTART:20250330T010000
END:DAYLIGHT
BEGIN:STANDARD
TZOFFSETFROM:+0200
TZOFFSETTO:+0100
TZNAME:CET
DTSTART:20251026T010000
END:STANDARD
END:VTIMEZONE
BEGIN:VEVENT
DTSTART;TZID=Europe/Zurich:20241209T080000
DTEND;TZID=Europe/Zurich:20241213T143000
DTSTAMP:20260424T162704
CREATED:20241206T151026Z
LAST-MODIFIED:20241206T151026Z
UID:2416-1733731200-1734100200@pizzeria-neuchatel.ch
SUMMARY:Menus de la semaine 50
DESCRIPTION:LUNDI 09.12 \nNo 1 Salade verte ou crème de bolets \nRigatoni all’arrabiata (ail\, oignon\, piment\, lard\, s. tomate) \nNo 2 Salade verte ou crème de bolets \nBœuf (PAR) Stroganoff (poivrons\, olives\, cornichon)\nTagliatelle au beurre \n  \nMARDI 10.12 \nNo 1 Salade verte ou potage aux légumes \nGnocchi al gorgonzola (crème\, gorgonzola) \n  \nNo 2 Salade verte ou potage aux légumes \nOsso buco (CH) de porc alla milanaise\, polenta \n  \nMERCREDI 11.12 \nNo 1 Salade verte ou crème de poireaux et de pommes de terre \nOrecchiette alla diavola (s. tomate\, poivrons\, olives) \n  \nNo 2 Salade verte ou crème de poireaux et de pommes de terre \nRôti de veau (CH) aux herbes\, pommes croquettes\nHaricots verts \n  \nJEUDI 12.12 \nNo 1 Salade verte ou minestrone \nCannelloni ricotta et épinards (béchamel\, s. tomate) \n  \nNo 2 Salade verte ou minestrone \nScaloppine de poulet (PL) aux champignons\, pommes frites \n  \nVENDREDI 13.12 \nNo 1 Salade verte ou crème d’asperges \nLinguine aux vongole (ail\, oignon\, s. tomate\, vongole) \n  \nNo 2 Salade verte ou crème d’asperges \nFilets de rascasse (SAUVAGE) sauce vin blanc\,\nriz aux petits légumes
URL:https://pizzeria-neuchatel.ch/event/menus-de-la-semaine-50-2/
CATEGORIES:Menu
END:VEVENT
END:VCALENDAR