BEGIN:VCALENDAR
VERSION:2.0
PRODID:-//La Fleur-de-Lys - Restaurant et Pizzeria à Neuchâtel - ECPv6.15.20//NONSGML v1.0//EN
CALSCALE:GREGORIAN
METHOD:PUBLISH
X-WR-CALNAME:La Fleur-de-Lys - Restaurant et Pizzeria à Neuchâtel
X-ORIGINAL-URL:https://pizzeria-neuchatel.ch
X-WR-CALDESC:Évènements pour La Fleur-de-Lys - Restaurant et Pizzeria à Neuchâtel
REFRESH-INTERVAL;VALUE=DURATION:PT1H
X-Robots-Tag:noindex
X-PUBLISHED-TTL:PT1H
BEGIN:VTIMEZONE
TZID:Europe/Zurich
BEGIN:DAYLIGHT
TZOFFSETFROM:+0100
TZOFFSETTO:+0200
TZNAME:CEST
DTSTART:20240331T010000
END:DAYLIGHT
BEGIN:STANDARD
TZOFFSETFROM:+0200
TZOFFSETTO:+0100
TZNAME:CET
DTSTART:20241027T010000
END:STANDARD
BEGIN:DAYLIGHT
TZOFFSETFROM:+0100
TZOFFSETTO:+0200
TZNAME:CEST
DTSTART:20250330T010000
END:DAYLIGHT
BEGIN:STANDARD
TZOFFSETFROM:+0200
TZOFFSETTO:+0100
TZNAME:CET
DTSTART:20251026T010000
END:STANDARD
BEGIN:DAYLIGHT
TZOFFSETFROM:+0100
TZOFFSETTO:+0200
TZNAME:CEST
DTSTART:20260329T010000
END:DAYLIGHT
BEGIN:STANDARD
TZOFFSETFROM:+0200
TZOFFSETTO:+0100
TZNAME:CET
DTSTART:20261025T010000
END:STANDARD
END:VTIMEZONE
BEGIN:VEVENT
DTSTART;TZID=Europe/Zurich:20250113T080000
DTEND;TZID=Europe/Zurich:20250117T143000
DTSTAMP:20260424T121559
CREATED:20250110T154342Z
LAST-MODIFIED:20250110T154342Z
UID:2558-1736755200-1737124200@pizzeria-neuchatel.ch
SUMMARY:Menus de la semaine 3
DESCRIPTION:LUNDI 13.01 \nNo 1 Salade verte ou potage à l’orge des Grisons \nPenne tzigane (jambon cru\, asperges\, crème) \n  \nNo 2 Salade verte ou potage à l’orge des Grisons \nSaltimbocca (CH) alla romana\, tomate au four\, pommes soufflées \n  \nMARDI 14.01 \nNo 1 Salade verte ou crème de poireaux et pommes de terre \nFarfalle primavera (s. tomate\, poivrons\, petits pois\, jambon\, crème) \n  \nNo 2 Salade verte ou crème de poireaux et pommes de terre \nEmincé de bœuf (CH) aux olives\, pâtes au beurre \n  \nMERCREDI 15.01 \nNo 1 Salade verte ou consommé de bœuf aux croutons \nLinguine sciué sciué(tomates fraîches\, basilic\, ail\, piment) \n  \nNo 2 Salade verte ou consommé de bœuf aux croutons \nEscalope panée de porc (CH) pommes frites \n  \nJEUDI 16.01 \nNo 1 Salade verte ou crème de tomates \nCannelloni ricotta et épinards (béchamel\, s. tomate) \n  \nNo 2 Salade verte ou crème de tomates \nPiccata de poulet (POL) spaghetti al pomodoro \n  \nVENDREDI 17.01 \nNo 1 Salade verte ou potage à la courge \nCasarecce crevettes et courgettes (crème\, crevettes\, courgettes) \n  \nNo 2 Salade verte ou potage à la courge \nFilet de saumon (NOR) sauce hollandaise\nRiz pilaf
URL:https://pizzeria-neuchatel.ch/event/menus-de-la-semaine-3-2/
CATEGORIES:Menu
END:VEVENT
END:VCALENDAR