BEGIN:VCALENDAR
VERSION:2.0
PRODID:-//La Fleur-de-Lys - Restaurant et Pizzeria à Neuchâtel - ECPv6.15.20//NONSGML v1.0//EN
CALSCALE:GREGORIAN
METHOD:PUBLISH
X-WR-CALNAME:La Fleur-de-Lys - Restaurant et Pizzeria à Neuchâtel
X-ORIGINAL-URL:https://pizzeria-neuchatel.ch
X-WR-CALDESC:Évènements pour La Fleur-de-Lys - Restaurant et Pizzeria à Neuchâtel
REFRESH-INTERVAL;VALUE=DURATION:PT1H
X-Robots-Tag:noindex
X-PUBLISHED-TTL:PT1H
BEGIN:VTIMEZONE
TZID:Europe/Zurich
BEGIN:DAYLIGHT
TZOFFSETFROM:+0100
TZOFFSETTO:+0200
TZNAME:CEST
DTSTART:20240331T010000
END:DAYLIGHT
BEGIN:STANDARD
TZOFFSETFROM:+0200
TZOFFSETTO:+0100
TZNAME:CET
DTSTART:20241027T010000
END:STANDARD
BEGIN:DAYLIGHT
TZOFFSETFROM:+0100
TZOFFSETTO:+0200
TZNAME:CEST
DTSTART:20250330T010000
END:DAYLIGHT
BEGIN:STANDARD
TZOFFSETFROM:+0200
TZOFFSETTO:+0100
TZNAME:CET
DTSTART:20251026T010000
END:STANDARD
BEGIN:DAYLIGHT
TZOFFSETFROM:+0100
TZOFFSETTO:+0200
TZNAME:CEST
DTSTART:20260329T010000
END:DAYLIGHT
BEGIN:STANDARD
TZOFFSETFROM:+0200
TZOFFSETTO:+0100
TZNAME:CET
DTSTART:20261025T010000
END:STANDARD
END:VTIMEZONE
BEGIN:VEVENT
DTSTART;TZID=Europe/Zurich:20250210T080000
DTEND;TZID=Europe/Zurich:20250214T140000
DTSTAMP:20260424T065800
CREATED:20250207T140315Z
LAST-MODIFIED:20250207T140315Z
UID:2693-1739174400-1739541600@pizzeria-neuchatel.ch
SUMMARY:Menus de la semaine 7
DESCRIPTION:LUNDI 10.02 \nNo 1 Salade verte ou crème de tomates \nFusilli all’ortolana (s. tomate\, poivrons\, courgettes\, aubergines) \n  \nNo 2 Salade verte ou crème de tomates \nSaltimbocca de porc (CH) alla romana\, pâtes au beurre \n  \nMARDI 11.02 \nNo 1 Salade verte ou potage aux asperges vertes \nRisotto alla ticinese (saucisse Luganiga\, parmesan)  \n  \nNo 2 Salade verte ou potage aux asperges vertes \nSteak vigneron (CH) sauce bordelaise\, pommes carrées\, tomate au four \n  \nMERCREDI 12.02 \nNo 1 Salade verte ou crème de champignons \nCannelloni à la ricotta et épinards (béchamel\, s. tomate) \n  \nNo 2 Salade verte ou crème de champignons \nPiccata de poulet (PL)\, spaghetti al pomodoro \n  \nJEUDI 13.02 \nNo 1 Salade verte ou potage bernois aux pois jaunes \nCasarecce alla rucola (s. tomate\, rucola\, copeaux de parmesan) \n  \nNo 2 Salade verte ou potage bernois aux pois jaunes \nRagoût de veau (CH) aux olives\, riz créole \n  \nVENDREDI 14.02 \nNo 1 Salade verte ou consommé de bœuf aux croutons \nLinguine alla palermitana (thon\, câpres\, s. tomate) \n  \nNo 2 Salade verte ou consommé de bœuf aux croutons \nFilets de perche (RUS) meunière\, pommes vapeur \n  \n 
URL:https://pizzeria-neuchatel.ch/event/menus-de-la-semaine-7-2/
CATEGORIES:Menu
END:VEVENT
END:VCALENDAR