BEGIN:VCALENDAR
VERSION:2.0
PRODID:-//La Fleur-de-Lys - Restaurant et Pizzeria à Neuchâtel - ECPv6.15.20//NONSGML v1.0//EN
CALSCALE:GREGORIAN
METHOD:PUBLISH
X-ORIGINAL-URL:https://pizzeria-neuchatel.ch
X-WR-CALDESC:Évènements pour La Fleur-de-Lys - Restaurant et Pizzeria à Neuchâtel
REFRESH-INTERVAL;VALUE=DURATION:PT1H
X-Robots-Tag:noindex
X-PUBLISHED-TTL:PT1H
BEGIN:VTIMEZONE
TZID:Europe/Zurich
BEGIN:DAYLIGHT
TZOFFSETFROM:+0100
TZOFFSETTO:+0200
TZNAME:CEST
DTSTART:20240331T010000
END:DAYLIGHT
BEGIN:STANDARD
TZOFFSETFROM:+0200
TZOFFSETTO:+0100
TZNAME:CET
DTSTART:20241027T010000
END:STANDARD
BEGIN:DAYLIGHT
TZOFFSETFROM:+0100
TZOFFSETTO:+0200
TZNAME:CEST
DTSTART:20250330T010000
END:DAYLIGHT
BEGIN:STANDARD
TZOFFSETFROM:+0200
TZOFFSETTO:+0100
TZNAME:CET
DTSTART:20251026T010000
END:STANDARD
BEGIN:DAYLIGHT
TZOFFSETFROM:+0100
TZOFFSETTO:+0200
TZNAME:CEST
DTSTART:20260329T010000
END:DAYLIGHT
BEGIN:STANDARD
TZOFFSETFROM:+0200
TZOFFSETTO:+0100
TZNAME:CET
DTSTART:20261025T010000
END:STANDARD
END:VTIMEZONE
BEGIN:VEVENT
DTSTART;TZID=Europe/Zurich:20250818T080000
DTEND;TZID=Europe/Zurich:20250822T143000
DTSTAMP:20260423T190052
CREATED:20250815T124115Z
LAST-MODIFIED:20250815T124115Z
UID:3451-1755504000-1755873000@pizzeria-neuchatel.ch
SUMMARY:Menus de la semaine 34
DESCRIPTION:LUNDI 18.08 \nNo 1 Salade verte ou 2 boules de glace \nOrecchiette alla diavola (s. tomate\, poivrons\, olives) \n  \nNo 2 Salade verte ou 2 boules de glace \nRôti de porc (CH) aux abricots\, sauce à l’abricotine\,\nPommes de terre au four \n  \nMARDI 19.08 \nNo 1 Salade verte ou 2 boules de glace \nFusilli à l’italienne (s. tomate\, crème\, basilic) \n  \nNo 2 Salade verte ou 2 boules de glace \nPiccata milanaise de poulet (PL)\, spaghetti al pomodoro \n  \nMERCREDI 20.08 \nNo 1 Salade verte ou 2 boules de glace \nSpaghetti alla carbonara (crème\, jambon\, œuf) \n  \nNo 2 Salade verte ou 2 boules de glace \nScaloppine de porc (CH) à la crème\, courgettes sautées\nPommes croquettes \n  \nJEUDI 21.08 \nNo 1 Salade verte ou 2 boules de glace \nRavioli farci ricotta et citron (crème) \n  \nNo 2 Salade verte ou 2 boules de glace \nEntrecôte parisienne (CH) sauce au poivre rose\nJardinière de légumes \n  \nVENDREDI 22.08 \nNo 1 Salade verte ou 2 boules de glace \nFarfalle ai frutti di mare (s. tomate\, fruits de mer) \n  \nNo 2 Salade verte ou 2 boules de glace \nCrevettes (VIET) au curry\, riz aux petits pois
URL:https://pizzeria-neuchatel.ch/event/menus-de-la-semaine-34-2/
CATEGORIES:Menu
END:VEVENT
END:VCALENDAR