BEGIN:VCALENDAR
VERSION:2.0
PRODID:-//La Fleur-de-Lys - Restaurant et Pizzeria à Neuchâtel - ECPv6.15.20//NONSGML v1.0//EN
CALSCALE:GREGORIAN
METHOD:PUBLISH
X-WR-CALNAME:La Fleur-de-Lys - Restaurant et Pizzeria à Neuchâtel
X-ORIGINAL-URL:https://pizzeria-neuchatel.ch
X-WR-CALDESC:Évènements pour La Fleur-de-Lys - Restaurant et Pizzeria à Neuchâtel
REFRESH-INTERVAL;VALUE=DURATION:PT1H
X-Robots-Tag:noindex
X-PUBLISHED-TTL:PT1H
BEGIN:VTIMEZONE
TZID:Europe/Zurich
BEGIN:DAYLIGHT
TZOFFSETFROM:+0100
TZOFFSETTO:+0200
TZNAME:CEST
DTSTART:20240331T010000
END:DAYLIGHT
BEGIN:STANDARD
TZOFFSETFROM:+0200
TZOFFSETTO:+0100
TZNAME:CET
DTSTART:20241027T010000
END:STANDARD
BEGIN:DAYLIGHT
TZOFFSETFROM:+0100
TZOFFSETTO:+0200
TZNAME:CEST
DTSTART:20250330T010000
END:DAYLIGHT
BEGIN:STANDARD
TZOFFSETFROM:+0200
TZOFFSETTO:+0100
TZNAME:CET
DTSTART:20251026T010000
END:STANDARD
BEGIN:DAYLIGHT
TZOFFSETFROM:+0100
TZOFFSETTO:+0200
TZNAME:CEST
DTSTART:20260329T010000
END:DAYLIGHT
BEGIN:STANDARD
TZOFFSETFROM:+0200
TZOFFSETTO:+0100
TZNAME:CET
DTSTART:20261025T010000
END:STANDARD
END:VTIMEZONE
BEGIN:VEVENT
DTSTART;TZID=Europe/Zurich:20250908T080000
DTEND;TZID=Europe/Zurich:20250912T143000
DTSTAMP:20260423T185954
CREATED:20250905T144755Z
LAST-MODIFIED:20250905T144755Z
UID:3540-1757318400-1757687400@pizzeria-neuchatel.ch
SUMMARY:Menus de la semaine 37
DESCRIPTION:LUNDI 08.09 \nNo 1 Salade verte ou 2 boules de glace \nPenne al pesto  \n  \nNo 2 Salade verte ou 2 boules de glace \nSteak de cheval (URU) sauce poivre vert\, linguine au beurre \n  \nMARDI 09.09 \nNo 1 Salade verte ou 2 boules de glace \nFarfalle aux bolets (crème) \n  \nNo 2 Salade verte ou 2 boules de glace \nRoastbeef (CH) sauce tartare\, pommes frites \n  \nMERCREDI 10.09 \nNo 1 Salade verte ou 2 boules de glace \nSpaghetti à l’italienne (s. tomate\, crème\, basilic) \n  \nNo 2 Salade verte ou 2 boules de glace \nEmincé de poulet (CH) au curry\, riz  \n  \nJEUDI 11.09 \nNo 1 Salade verte ou 2 boules de glace \nTortellini farci ricotta et épinards (crème) \n  \nNo 2 Salade verte ou 2 boules de glace \nCôtelette de porc (CH) sauce à la moutarde\nPommes soufflées\, tomate au four \n  \nVENDREDI 12.09 \nNo 1 Salade verte ou 2 boules de glace \nTagliatelle aux crevettes et asperges (crème) \n  \nNo 2 Salade verte ou 2 boules de glace \nFilet de dorade (TUR) aux légumes\, riz
URL:https://pizzeria-neuchatel.ch/event/menus-de-la-semaine-37-2/
CATEGORIES:Menu
END:VEVENT
END:VCALENDAR