BEGIN:VCALENDAR
VERSION:2.0
PRODID:-//La Fleur-de-Lys - Restaurant et Pizzeria à Neuchâtel - ECPv6.15.20//NONSGML v1.0//EN
CALSCALE:GREGORIAN
METHOD:PUBLISH
X-WR-CALNAME:La Fleur-de-Lys - Restaurant et Pizzeria à Neuchâtel
X-ORIGINAL-URL:https://pizzeria-neuchatel.ch
X-WR-CALDESC:Évènements pour La Fleur-de-Lys - Restaurant et Pizzeria à Neuchâtel
REFRESH-INTERVAL;VALUE=DURATION:PT1H
X-Robots-Tag:noindex
X-PUBLISHED-TTL:PT1H
BEGIN:VTIMEZONE
TZID:Europe/Zurich
BEGIN:DAYLIGHT
TZOFFSETFROM:+0100
TZOFFSETTO:+0200
TZNAME:CEST
DTSTART:20240331T010000
END:DAYLIGHT
BEGIN:STANDARD
TZOFFSETFROM:+0200
TZOFFSETTO:+0100
TZNAME:CET
DTSTART:20241027T010000
END:STANDARD
BEGIN:DAYLIGHT
TZOFFSETFROM:+0100
TZOFFSETTO:+0200
TZNAME:CEST
DTSTART:20250330T010000
END:DAYLIGHT
BEGIN:STANDARD
TZOFFSETFROM:+0200
TZOFFSETTO:+0100
TZNAME:CET
DTSTART:20251026T010000
END:STANDARD
BEGIN:DAYLIGHT
TZOFFSETFROM:+0100
TZOFFSETTO:+0200
TZNAME:CEST
DTSTART:20260329T010000
END:DAYLIGHT
BEGIN:STANDARD
TZOFFSETFROM:+0200
TZOFFSETTO:+0100
TZNAME:CET
DTSTART:20261025T010000
END:STANDARD
END:VTIMEZONE
BEGIN:VEVENT
DTSTART;TZID=Europe/Zurich:20250922T080000
DTEND;TZID=Europe/Zurich:20250926T143000
DTSTAMP:20260423T203412
CREATED:20250922T131340Z
LAST-MODIFIED:20250922T131340Z
UID:3604-1758528000-1758897000@pizzeria-neuchatel.ch
SUMMARY:Menus de la semaine 39
DESCRIPTION:LUNDI 22.09 \n Férié\, à la carte \nMARDI 23.09 \nNo 1 Salade verte ou 2 boules de glace \nCannelloni ricotta et épinards \n  \nNo 2 Salade verte ou 2 boules de glace \nEscalope panée de porc (CH)\, frites \n  \nMERCREDI 24.09 \nNo 1 Salade verte ou 2 boules de glace \nPenne alla carbonara (jambon\, crème\, oeuf) \n  \nNo 2 Salade verte ou 2 boules de glace \nOssobuco de porc (CH)\, risotto au safran \n  \nJEUDI 25.09 \nNo 1 Salade verte ou 2 boules de glace \nRavioli farci au mascarpone et épinards (crème) \n  \nNo 2 Salade verte ou 2 boules de glace \nFilet de poulet (POL) aux légumes\, frites \n  \nVENDREDI 26.09 \nNo 1 Salade verte ou 2 boules de glace \nOrecchiette alle vongole (s. tomate\, vongole) \n  \nNo 2 Salade verte ou 2 boules de glace \nPizza Capricciosa (jambon\, champignons)
URL:https://pizzeria-neuchatel.ch/event/menus-de-la-semaine-39-2/
CATEGORIES:Menu
END:VEVENT
END:VCALENDAR