BEGIN:VCALENDAR
VERSION:2.0
PRODID:-//La Fleur-de-Lys - Restaurant et Pizzeria à Neuchâtel - ECPv6.15.20//NONSGML v1.0//EN
CALSCALE:GREGORIAN
METHOD:PUBLISH
X-ORIGINAL-URL:https://pizzeria-neuchatel.ch
X-WR-CALDESC:Évènements pour La Fleur-de-Lys - Restaurant et Pizzeria à Neuchâtel
REFRESH-INTERVAL;VALUE=DURATION:PT1H
X-Robots-Tag:noindex
X-PUBLISHED-TTL:PT1H
BEGIN:VTIMEZONE
TZID:Europe/Zurich
BEGIN:DAYLIGHT
TZOFFSETFROM:+0100
TZOFFSETTO:+0200
TZNAME:CEST
DTSTART:20240331T010000
END:DAYLIGHT
BEGIN:STANDARD
TZOFFSETFROM:+0200
TZOFFSETTO:+0100
TZNAME:CET
DTSTART:20241027T010000
END:STANDARD
BEGIN:DAYLIGHT
TZOFFSETFROM:+0100
TZOFFSETTO:+0200
TZNAME:CEST
DTSTART:20250330T010000
END:DAYLIGHT
BEGIN:STANDARD
TZOFFSETFROM:+0200
TZOFFSETTO:+0100
TZNAME:CET
DTSTART:20251026T010000
END:STANDARD
BEGIN:DAYLIGHT
TZOFFSETFROM:+0100
TZOFFSETTO:+0200
TZNAME:CEST
DTSTART:20260329T010000
END:DAYLIGHT
BEGIN:STANDARD
TZOFFSETFROM:+0200
TZOFFSETTO:+0100
TZNAME:CET
DTSTART:20261025T010000
END:STANDARD
END:VTIMEZONE
BEGIN:VEVENT
DTSTART;TZID=Europe/Zurich:20251020T080000
DTEND;TZID=Europe/Zurich:20251024T143000
DTSTAMP:20260423T171930
CREATED:20251017T142600Z
LAST-MODIFIED:20251017T142600Z
UID:3687-1760947200-1761316200@pizzeria-neuchatel.ch
SUMMARY:Menus de la semaine 43
DESCRIPTION:LUNDI 20.10 \nNo 1 Salade verte ou potage aux pois verts \nGnocchi al gorgonzola (crème\, gorgonzola) \n  \nNo 2 Salade verte ou potage aux pois verts \nEmincé de poulet (PL) aux curry\, riz pilaf \n  \nMARDI 21.10 \nNo 1 Salade verte ou crème de cresson \nPenne alla petroniana (bolognaise\, crème) \n  \nNo 2 Salade verte ou crème de cresson \nSteak vigneron (CH) sauce bordelaise\, galettes de röstis\nTomate au four \n  \nMERCREDI 22.10 \nNo 1 Salade verte ou potage printanier \nSpaghetti alla rucola\n(s. tomate\, rucola\, copeaux de parmesan) \n  \nNo 2 Salade verte ou potage printanier \nRôti de porc (CH) Neuchâtelois\, sauce forestière\nTagliatelle au beurre \n  \nJEUDI 23.10 \nNo 1 Salade verte ou crème aux champignons \nConchiglie al pesto (crème\, pesto) \n  \nNo 2 Salade verte ou crème aux champignons \nEntrecôte parisienne (CH) sauce béarnaise\, pommes frites \n  \nVENDREDI 24.10 \nNo 1 Salade verte ou minestrone \nFarfalle alla palermitana (thon\, oignon\, câpres\, s. tomate) \n  \nNo 2 Salade verte ou minestrone \nFilet de dorade (TUR) sauce au vin blanc\nJardinière de légumes
URL:https://pizzeria-neuchatel.ch/event/menus-de-la-semaine-43-2/
CATEGORIES:Menu
END:VEVENT
END:VCALENDAR