BEGIN:VCALENDAR
VERSION:2.0
PRODID:-//La Fleur-de-Lys - Restaurant et Pizzeria à Neuchâtel - ECPv6.15.20//NONSGML v1.0//EN
CALSCALE:GREGORIAN
METHOD:PUBLISH
X-WR-CALNAME:La Fleur-de-Lys - Restaurant et Pizzeria à Neuchâtel
X-ORIGINAL-URL:https://pizzeria-neuchatel.ch
X-WR-CALDESC:Évènements pour La Fleur-de-Lys - Restaurant et Pizzeria à Neuchâtel
REFRESH-INTERVAL;VALUE=DURATION:PT1H
X-Robots-Tag:noindex
X-PUBLISHED-TTL:PT1H
BEGIN:VTIMEZONE
TZID:Europe/Zurich
BEGIN:DAYLIGHT
TZOFFSETFROM:+0100
TZOFFSETTO:+0200
TZNAME:CEST
DTSTART:20240331T010000
END:DAYLIGHT
BEGIN:STANDARD
TZOFFSETFROM:+0200
TZOFFSETTO:+0100
TZNAME:CET
DTSTART:20241027T010000
END:STANDARD
BEGIN:DAYLIGHT
TZOFFSETFROM:+0100
TZOFFSETTO:+0200
TZNAME:CEST
DTSTART:20250330T010000
END:DAYLIGHT
BEGIN:STANDARD
TZOFFSETFROM:+0200
TZOFFSETTO:+0100
TZNAME:CET
DTSTART:20251026T010000
END:STANDARD
BEGIN:DAYLIGHT
TZOFFSETFROM:+0100
TZOFFSETTO:+0200
TZNAME:CEST
DTSTART:20260329T010000
END:DAYLIGHT
BEGIN:STANDARD
TZOFFSETFROM:+0200
TZOFFSETTO:+0100
TZNAME:CET
DTSTART:20261025T010000
END:STANDARD
END:VTIMEZONE
BEGIN:VEVENT
DTSTART;TZID=Europe/Zurich:20251027T080000
DTEND;TZID=Europe/Zurich:20251031T143000
DTSTAMP:20260423T154138
CREATED:20251024T123510Z
LAST-MODIFIED:20251024T123510Z
UID:3718-1761552000-1761921000@pizzeria-neuchatel.ch
SUMMARY:Menus de la semaine 44
DESCRIPTION:LUNDI 27.10 \nNo 1 Salade verte ou crème de poireaux \nCasarecce à l’italienne (s. tomate\, crème\, basilic) \n  \nNo 2 Salade verte ou crème de poireaux \nEscalope de porc (CH) panée\, spaghetti al pomodoro \n  \nMARDI 28.10 \nNo 1 Salade verte ou potage aux légumes \nTortellini farcis à la viande (crème) \n  \nNo 2 Salade verte ou potage aux légumes \nEmincé de veau (CH) aux champignons\, riz aux petits pois \n  \nMERCREDI 29.10 \nNo 1 Salade verte ou crème de bolets \nOrecchiette alla diavola\n(s. tomate\, poivrons\, olives\, piquant) \n  \nNo 2 Salade verte ou crème de bolets \nJambon paysan (CH) sauce au marsala\nCarottes glacées\, pommes mousseline \n  \nJEUDI 30.10 \nNo 1 Salade verte ou potage bâlois \nFusilli aux chanterelles (crème\, oignon\, chanterelles) \n  \nNo 2 Salade verte ou potage bâlois \nScaloppine de poulet (PL) sauce au poivre vert\nBrocolis sautés\, pommes frites \n  \nVENDREDI 31.10 \nNo 1 Salade verte ou crème de chou-fleur \nLinguine alle vongole (s. tomate\, oignon\, vongole) \n  \nNo 2 Salade verte ou crème de chou-fleur \nPizza contadina (jambon\, lard)
URL:https://pizzeria-neuchatel.ch/event/menus-de-la-semaine-44-2/
CATEGORIES:Menu
END:VEVENT
END:VCALENDAR