BEGIN:VCALENDAR
VERSION:2.0
PRODID:-//La Fleur-de-Lys - Restaurant et Pizzeria à Neuchâtel - ECPv6.15.20//NONSGML v1.0//EN
CALSCALE:GREGORIAN
METHOD:PUBLISH
X-WR-CALNAME:La Fleur-de-Lys - Restaurant et Pizzeria à Neuchâtel
X-ORIGINAL-URL:https://pizzeria-neuchatel.ch
X-WR-CALDESC:Évènements pour La Fleur-de-Lys - Restaurant et Pizzeria à Neuchâtel
REFRESH-INTERVAL;VALUE=DURATION:PT1H
X-Robots-Tag:noindex
X-PUBLISHED-TTL:PT1H
BEGIN:VTIMEZONE
TZID:Europe/Zurich
BEGIN:DAYLIGHT
TZOFFSETFROM:+0100
TZOFFSETTO:+0200
TZNAME:CEST
DTSTART:20240331T010000
END:DAYLIGHT
BEGIN:STANDARD
TZOFFSETFROM:+0200
TZOFFSETTO:+0100
TZNAME:CET
DTSTART:20241027T010000
END:STANDARD
BEGIN:DAYLIGHT
TZOFFSETFROM:+0100
TZOFFSETTO:+0200
TZNAME:CEST
DTSTART:20250330T010000
END:DAYLIGHT
BEGIN:STANDARD
TZOFFSETFROM:+0200
TZOFFSETTO:+0100
TZNAME:CET
DTSTART:20251026T010000
END:STANDARD
BEGIN:DAYLIGHT
TZOFFSETFROM:+0100
TZOFFSETTO:+0200
TZNAME:CEST
DTSTART:20260329T010000
END:DAYLIGHT
BEGIN:STANDARD
TZOFFSETFROM:+0200
TZOFFSETTO:+0100
TZNAME:CET
DTSTART:20261025T010000
END:STANDARD
END:VTIMEZONE
BEGIN:VEVENT
DTSTART;TZID=Europe/Zurich:20251110T080000
DTEND;TZID=Europe/Zurich:20251114T143000
DTSTAMP:20260423T141612
CREATED:20251110T091512Z
LAST-MODIFIED:20251110T091512Z
UID:3799-1762761600-1763130600@pizzeria-neuchatel.ch
SUMMARY:Menus de la semaine 46
DESCRIPTION:LUNDI 10.11 \nNo 1 Salade verte ou potage aux poireaux \nRigatoni all’amatriciana (s. tomate\, oignon\, pancetta) \n  \nNo 2 Salade verte ou potage aux poireaux \nEntrecôte parisienne (CH) sauce au poivre vert\, galettes de rösti\, carottes glacées \n  \nMARDI 11.11 \nNo 1 Salade verte ou minestrone \nTortelloni aux 4 fromages (crème) \n  \nNo 2 Salade verte ou minestrone \nScaloppine de porc (CH) sauce à la moutarde\, pâtes au beurre \n  \nMERCREDI 12.11 \nNo 1 Salade verte ou crème de cresson \nFusilli alla petroniana (bolognaise\, crème) \n  \nNo 2 Salade verte ou crème de cresson \nCivet de chevreuil (AUT) façon grand-mère (oignon\, lard)\nSpätzlis\, choux de Bruxelles\,  \n  \nJEUDI 13.11 \nNo 1 Salade verte ou potage à l’orge des Grisons \nCasarecce butterfly (tomates fraîches\, courgettes\, basilic) \n  \nNo 2 Salade verte ou potage à l’orge des Grisons \nPiccata milanaise de poulet (PL)\, spaghetti al pomodoro \n  \nVENDREDI 14.11 \nNo 1 Salade verte ou crème de légumes \nLinguine alle vongole (s. tomate\, ail\, oignon\, vongole) \n  \nNo 2 Salade verte ou crème de légumes \nCrevettes au safran (VIET)\, riz aux légumes \n  \nNOUVEAU : pâte à pizza sans gluten (+ 1.50)
URL:https://pizzeria-neuchatel.ch/event/menus-de-la-semaine-46-3/
CATEGORIES:Menu
END:VEVENT
END:VCALENDAR