BEGIN:VCALENDAR
VERSION:2.0
PRODID:-//La Fleur-de-Lys - Restaurant et Pizzeria à Neuchâtel - ECPv6.15.20//NONSGML v1.0//EN
CALSCALE:GREGORIAN
METHOD:PUBLISH
X-WR-CALNAME:La Fleur-de-Lys - Restaurant et Pizzeria à Neuchâtel
X-ORIGINAL-URL:https://pizzeria-neuchatel.ch
X-WR-CALDESC:Évènements pour La Fleur-de-Lys - Restaurant et Pizzeria à Neuchâtel
REFRESH-INTERVAL;VALUE=DURATION:PT1H
X-Robots-Tag:noindex
X-PUBLISHED-TTL:PT1H
BEGIN:VTIMEZONE
TZID:Europe/Zurich
BEGIN:DAYLIGHT
TZOFFSETFROM:+0100
TZOFFSETTO:+0200
TZNAME:CEST
DTSTART:20240331T010000
END:DAYLIGHT
BEGIN:STANDARD
TZOFFSETFROM:+0200
TZOFFSETTO:+0100
TZNAME:CET
DTSTART:20241027T010000
END:STANDARD
BEGIN:DAYLIGHT
TZOFFSETFROM:+0100
TZOFFSETTO:+0200
TZNAME:CEST
DTSTART:20250330T010000
END:DAYLIGHT
BEGIN:STANDARD
TZOFFSETFROM:+0200
TZOFFSETTO:+0100
TZNAME:CET
DTSTART:20251026T010000
END:STANDARD
BEGIN:DAYLIGHT
TZOFFSETFROM:+0100
TZOFFSETTO:+0200
TZNAME:CEST
DTSTART:20260329T010000
END:DAYLIGHT
BEGIN:STANDARD
TZOFFSETFROM:+0200
TZOFFSETTO:+0100
TZNAME:CET
DTSTART:20261025T010000
END:STANDARD
END:VTIMEZONE
BEGIN:VEVENT
DTSTART;TZID=Europe/Zurich:20251117T080000
DTEND;TZID=Europe/Zurich:20251121T143000
DTSTAMP:20260423T141419
CREATED:20251114T134215Z
LAST-MODIFIED:20251114T134215Z
UID:3813-1763366400-1763735400@pizzeria-neuchatel.ch
SUMMARY:Menus de la semaine 47
DESCRIPTION:LUNDI 17.11 \nNo 1 Salade verte ou crème de tomates \nTortelli farcis au sanglier (crème\, cognac\, airelles) \n  \nNo 2 Salade verte ou crème de tomate \nSaltimbocca de porc (CH) alla romana\, tagliatelle au beurre \n  \nMARDI 18.11 \nNo 1 Salade verte ou potage bâlois \nSpaghetti sciué sciué (tomates fraîches\, basilic\, ail\, piment) \n  \nNo 2 Salade verte ou potage bâlois \nEmincé de veau (CH) à la crème\, pommes mousseline\, courgettes sautées \nMERCREDI 19.11 \nNo 1 Salade verte ou crème de bolets \nGnocchi al pesto (crème\, pesto) \n  \nNo 2 Salade verte ou crème de bolets \nSuprême de poulet jaune (FR) à l’orange\, tomates au four\nPommes croquettes \n  \nJEUDI 20.11 \nNo 1 Salade verte ou potage paysan \nFusilli all’amalfitana (s. tomate\, ricotta\, basilic) \n  \nNo 2 Salade verte ou potage paysan \nOsso bucco de porc (CH) alla milanaise\, risotto au safran \n  \nVENDREDI 21.11 \nNo 1 Salade verte ou crème de pois verts \nFarfalle au thon (s. tomate\, oignon\, thon) \n  \nNo 2 Salade verte ou crème de pois verts \nFilet de dorade (TUR) sauce tomate et basilic \nRiz créole \nNOUVEAU : pâte à pizza sans gluten (+ 1.50)
URL:https://pizzeria-neuchatel.ch/event/menus-de-la-semaine-47-3/
CATEGORIES:Menu
END:VEVENT
END:VCALENDAR