BEGIN:VCALENDAR
VERSION:2.0
PRODID:-//La Fleur-de-Lys - Restaurant et Pizzeria à Neuchâtel - ECPv6.15.20//NONSGML v1.0//EN
CALSCALE:GREGORIAN
METHOD:PUBLISH
X-WR-CALNAME:La Fleur-de-Lys - Restaurant et Pizzeria à Neuchâtel
X-ORIGINAL-URL:https://pizzeria-neuchatel.ch
X-WR-CALDESC:Évènements pour La Fleur-de-Lys - Restaurant et Pizzeria à Neuchâtel
REFRESH-INTERVAL;VALUE=DURATION:PT1H
X-Robots-Tag:noindex
X-PUBLISHED-TTL:PT1H
BEGIN:VTIMEZONE
TZID:Europe/Zurich
BEGIN:DAYLIGHT
TZOFFSETFROM:+0100
TZOFFSETTO:+0200
TZNAME:CEST
DTSTART:20240331T010000
END:DAYLIGHT
BEGIN:STANDARD
TZOFFSETFROM:+0200
TZOFFSETTO:+0100
TZNAME:CET
DTSTART:20241027T010000
END:STANDARD
BEGIN:DAYLIGHT
TZOFFSETFROM:+0100
TZOFFSETTO:+0200
TZNAME:CEST
DTSTART:20250330T010000
END:DAYLIGHT
BEGIN:STANDARD
TZOFFSETFROM:+0200
TZOFFSETTO:+0100
TZNAME:CET
DTSTART:20251026T010000
END:STANDARD
BEGIN:DAYLIGHT
TZOFFSETFROM:+0100
TZOFFSETTO:+0200
TZNAME:CEST
DTSTART:20260329T010000
END:DAYLIGHT
BEGIN:STANDARD
TZOFFSETFROM:+0200
TZOFFSETTO:+0100
TZNAME:CET
DTSTART:20261025T010000
END:STANDARD
END:VTIMEZONE
BEGIN:VEVENT
DTSTART;TZID=Europe/Zurich:20251124T080000
DTEND;TZID=Europe/Zurich:20251128T143000
DTSTAMP:20260423T141319
CREATED:20251121T133434Z
LAST-MODIFIED:20251121T133434Z
UID:3841-1763971200-1764340200@pizzeria-neuchatel.ch
SUMMARY:Menus de la semaine 48
DESCRIPTION:LUNDI 24.11 \nNo 1 Salade verte ou crème de potiron \nTortellini farcis à la viande (crème\, jambon) \nNo 2 Salade verte ou crème de potiron \nEscalope panée de porc (CH)\, spaghetti al pomodoro \n  \nMARDI 25.11 \nNo 1 Salade verte ou potage printanier \nRigatoni alla vesuviana (s. tomate\, gorgonzola\, salami piquant) \nNo 2 Salade verte ou potage printanier \nBrochette de bœuf (PAR) sauce aux poivrons\nPommes frites \nMERCREDI 26.11 \nNo 1 Salade verte ou crème de livèche \nPenne aux 4 fromages (gruyère\, taleggio\, parmesan\, crème) \nNo 2 Salade verte ou crème de livèche \nRôti de veau (CH) aux herbes\, carottes glacées\nPommes de terre au four \n  \nJEUDI 27.11 \nNo 1 Salade verte ou potage aux fines herbes \nTagliatelle aux chanterelles (crème\, chanterelles) \nNo 2 Salade verte ou potage aux fines herbes \nEmincé de poulet (PL) au curry\, riz aux petits pois \n  \nVENDREDI 28.11 \nNo 1 Salade verte ou crème de chou-fleur \nFusilli aux fruits de mer \nNo 2 Salade verte ou crème de chou-fleur \nPavé de saumon (NOR)\, sauce hollandaise \nJardinière de légumes \nNOUVEAU : pâte à pizza sans gluten (+ 1.50)
URL:https://pizzeria-neuchatel.ch/event/menus-de-la-semaine-48-3/
CATEGORIES:Menu
END:VEVENT
END:VCALENDAR